BEGIN:VCALENDAR
VERSION:2.0
PRODID:-//Triad Goodwill - ECPv6.15.20//NONSGML v1.0//EN
CALSCALE:GREGORIAN
METHOD:PUBLISH
X-ORIGINAL-URL:https://www.triadgoodwill.org
X-WR-CALDESC:Events for Triad Goodwill
REFRESH-INTERVAL;VALUE=DURATION:PT1H
X-Robots-Tag:noindex
X-PUBLISHED-TTL:PT1H
BEGIN:VTIMEZONE
TZID:America/New_York
BEGIN:DAYLIGHT
TZOFFSETFROM:-0500
TZOFFSETTO:-0400
TZNAME:EDT
DTSTART:20220313T070000
END:DAYLIGHT
BEGIN:STANDARD
TZOFFSETFROM:-0400
TZOFFSETTO:-0500
TZNAME:EST
DTSTART:20221106T060000
END:STANDARD
BEGIN:DAYLIGHT
TZOFFSETFROM:-0500
TZOFFSETTO:-0400
TZNAME:EDT
DTSTART:20230312T070000
END:DAYLIGHT
BEGIN:STANDARD
TZOFFSETFROM:-0400
TZOFFSETTO:-0500
TZNAME:EST
DTSTART:20231105T060000
END:STANDARD
BEGIN:DAYLIGHT
TZOFFSETFROM:-0500
TZOFFSETTO:-0400
TZNAME:EDT
DTSTART:20240310T070000
END:DAYLIGHT
BEGIN:STANDARD
TZOFFSETFROM:-0400
TZOFFSETTO:-0500
TZNAME:EST
DTSTART:20241103T060000
END:STANDARD
END:VTIMEZONE
BEGIN:VEVENT
DTSTART;TZID=America/New_York:20231213T130000
DTEND;TZID=America/New_York:20231213T140000
DTSTAMP:20260424T122528
CREATED:20231003T203502Z
LAST-MODIFIED:20231003T203502Z
UID:10002286-1702472400-1702476000@www.triadgoodwill.org
SUMMARY:Virtual Training: LinkedIn & Social Media Basics
DESCRIPTION:LinkedIn & Social Media Basics on Wednesday\, December 13 from 1:00PM – 2:00PM via Zoom. \nSocial media is the backbone of the digital world. This training will help you understand the fundamentals of Linked In and other social media platforms. Participants will learn how social media influences our current communication environments and how to choose the right platform for your career needs. The course will explore: \n\nDifferences between the major social media channels.\nHow to use Linked In for career pursuits.\nDeveloping trends in the use of Linked In as a resource for personal branding\, and job searching.\nHow to avoid common mistakes and pitfalls that can damage your reputation.\n\nClick to register: https://us06web.zoom.us/meeting/register/tZIsf-mvpz4uGtf1oaZDMtndvcgnF_smQU9a
URL:https://www.triadgoodwill.org/event/virtual-training-linkedin-social-media-basics/
LOCATION:Zoom\, Email for Details\, NC\, United States
CATEGORIES:Train
ATTACH;FMTTYPE=image/png:https://www.triadgoodwill.org/wp-content/uploads/2023/10/LinkedIn-Social-Media-Basics.png
ORGANIZER;CN="Triad Goodwill":MAILTO:marketing@triadgoodwill.org
END:VEVENT
END:VCALENDAR