BEGIN:VCALENDAR
VERSION:2.0
PRODID:-//Triad Goodwill - ECPv6.15.20//NONSGML v1.0//EN
CALSCALE:GREGORIAN
METHOD:PUBLISH
X-WR-CALNAME:Triad Goodwill
X-ORIGINAL-URL:https://www.triadgoodwill.org
X-WR-CALDESC:Events for Triad Goodwill
REFRESH-INTERVAL;VALUE=DURATION:PT1H
X-Robots-Tag:noindex
X-PUBLISHED-TTL:PT1H
BEGIN:VTIMEZONE
TZID:America/New_York
BEGIN:DAYLIGHT
TZOFFSETFROM:-0500
TZOFFSETTO:-0400
TZNAME:EDT
DTSTART:20230312T070000
END:DAYLIGHT
BEGIN:STANDARD
TZOFFSETFROM:-0400
TZOFFSETTO:-0500
TZNAME:EST
DTSTART:20231105T060000
END:STANDARD
BEGIN:DAYLIGHT
TZOFFSETFROM:-0500
TZOFFSETTO:-0400
TZNAME:EDT
DTSTART:20240310T070000
END:DAYLIGHT
BEGIN:STANDARD
TZOFFSETFROM:-0400
TZOFFSETTO:-0500
TZNAME:EST
DTSTART:20241103T060000
END:STANDARD
BEGIN:DAYLIGHT
TZOFFSETFROM:-0500
TZOFFSETTO:-0400
TZNAME:EDT
DTSTART:20250309T070000
END:DAYLIGHT
BEGIN:STANDARD
TZOFFSETFROM:-0400
TZOFFSETTO:-0500
TZNAME:EST
DTSTART:20251102T060000
END:STANDARD
END:VTIMEZONE
BEGIN:VEVENT
DTSTART;TZID=America/New_York:20240207T150000
DTEND;TZID=America/New_York:20240207T160000
DTSTAMP:20260421T053105
CREATED:20231212T171617Z
LAST-MODIFIED:20231212T171617Z
UID:10002301-1707318000-1707321600@www.triadgoodwill.org
SUMMARY:Virtual Training: Interviewing Basics: How to Tell Your Story
DESCRIPTION:Interviewing Basics: How to Tell Your Story on Wednesday February 7\, 3:00PM – 4:00PM via Zoom. \nThis training session will help you prepare to articulate your skills\, knowledge\, and work experiences for your job interview. Learn how to address common interview questions and preparation strategies. Topics will include: \n\nHow to prepare for virtual interviews.\nHow to address difficult or uncomfortable questions\, such as gaps in work experiences.\nEmploy effective and successful follow-up strategies.\nKeys to re-branding yourself.\n\nClick to register: https://us06web.zoom.us/meeting/register/tZ0vce2trj8qH9ZKMeB4lhHvFAyJo6jDeyK9
URL:https://www.triadgoodwill.org/event/virtual-training-interviewing-basics-how-to-tell-your-story-8/
LOCATION:Zoom\, Email for Details\, NC\, United States
CATEGORIES:Train
ATTACH;FMTTYPE=image/png:https://www.triadgoodwill.org/wp-content/uploads/2023/06/Interviewing-Basics_-How-to-Tell-Your-Story-1.png
ORGANIZER;CN="Triad Goodwill":MAILTO:marketing@triadgoodwill.org
END:VEVENT
END:VCALENDAR