BEGIN:VCALENDAR
VERSION:2.0
PRODID:-//Triad Goodwill - ECPv6.15.20//NONSGML v1.0//EN
CALSCALE:GREGORIAN
METHOD:PUBLISH
X-ORIGINAL-URL:https://www.triadgoodwill.org
X-WR-CALDESC:Events for Triad Goodwill
REFRESH-INTERVAL;VALUE=DURATION:PT1H
X-Robots-Tag:noindex
X-PUBLISHED-TTL:PT1H
BEGIN:VTIMEZONE
TZID:America/New_York
BEGIN:DAYLIGHT
TZOFFSETFROM:-0500
TZOFFSETTO:-0400
TZNAME:EDT
DTSTART:20230312T070000
END:DAYLIGHT
BEGIN:STANDARD
TZOFFSETFROM:-0400
TZOFFSETTO:-0500
TZNAME:EST
DTSTART:20231105T060000
END:STANDARD
BEGIN:DAYLIGHT
TZOFFSETFROM:-0500
TZOFFSETTO:-0400
TZNAME:EDT
DTSTART:20240310T070000
END:DAYLIGHT
BEGIN:STANDARD
TZOFFSETFROM:-0400
TZOFFSETTO:-0500
TZNAME:EST
DTSTART:20241103T060000
END:STANDARD
BEGIN:DAYLIGHT
TZOFFSETFROM:-0500
TZOFFSETTO:-0400
TZNAME:EDT
DTSTART:20250309T070000
END:DAYLIGHT
BEGIN:STANDARD
TZOFFSETFROM:-0400
TZOFFSETTO:-0500
TZNAME:EST
DTSTART:20251102T060000
END:STANDARD
END:VTIMEZONE
BEGIN:VEVENT
DTSTART;TZID=America/New_York:20240214T150000
DTEND;TZID=America/New_York:20240214T160000
DTSTAMP:20260420T101758
CREATED:20231212T172008Z
LAST-MODIFIED:20231212T172008Z
UID:10002303-1707922800-1707926400@www.triadgoodwill.org
SUMMARY:Virtual Training: Cover Letter Fundamentals
DESCRIPTION:Cover Letter Fundamentals on Wednesday February 14\, 3:00PM – 4:00PM via Zoom. \nThe cover letter serves an important and often underappreciated role in the job searching process. A well written cover letter can be the difference in getting that interview. This session will explore the role this document plays in your job search and why it is so important. Topics include: \n\nUnderstanding basic structure of a cover letter.\nTips to get the most value out of the letter.\nBasics writing and grammar fundamentals.\nHow the letter can become a great first impression.\nAnd more.\n\nClick to register: https://us06web.zoom.us/meeting/register/tZIvfuCgrzwrEtP5l9RVj6OZ1n4nWMDPJY2b
URL:https://www.triadgoodwill.org/event/virtual-training-cover-letter-fundamentals-5/
LOCATION:Zoom\, Email for Details\, NC\, United States
CATEGORIES:Train
ATTACH;FMTTYPE=image/png:https://www.triadgoodwill.org/wp-content/uploads/2023/06/Cover-Letter-Fundamentals.png
ORGANIZER;CN="Triad Goodwill":MAILTO:marketing@triadgoodwill.org
END:VEVENT
END:VCALENDAR