BEGIN:VCALENDAR
VERSION:2.0
PRODID:-//Triad Goodwill - ECPv6.15.20//NONSGML v1.0//EN
CALSCALE:GREGORIAN
METHOD:PUBLISH
X-WR-CALNAME:Triad Goodwill
X-ORIGINAL-URL:https://www.triadgoodwill.org
X-WR-CALDESC:Events for Triad Goodwill
REFRESH-INTERVAL;VALUE=DURATION:PT1H
X-Robots-Tag:noindex
X-PUBLISHED-TTL:PT1H
BEGIN:VTIMEZONE
TZID:America/New_York
BEGIN:DAYLIGHT
TZOFFSETFROM:-0500
TZOFFSETTO:-0400
TZNAME:EDT
DTSTART:20230312T070000
END:DAYLIGHT
BEGIN:STANDARD
TZOFFSETFROM:-0400
TZOFFSETTO:-0500
TZNAME:EST
DTSTART:20231105T060000
END:STANDARD
BEGIN:DAYLIGHT
TZOFFSETFROM:-0500
TZOFFSETTO:-0400
TZNAME:EDT
DTSTART:20240310T070000
END:DAYLIGHT
BEGIN:STANDARD
TZOFFSETFROM:-0400
TZOFFSETTO:-0500
TZNAME:EST
DTSTART:20241103T060000
END:STANDARD
BEGIN:DAYLIGHT
TZOFFSETFROM:-0500
TZOFFSETTO:-0400
TZNAME:EDT
DTSTART:20250309T070000
END:DAYLIGHT
BEGIN:STANDARD
TZOFFSETFROM:-0400
TZOFFSETTO:-0500
TZNAME:EST
DTSTART:20251102T060000
END:STANDARD
END:VTIMEZONE
BEGIN:VEVENT
DTSTART;TZID=America/New_York:20240228T150000
DTEND;TZID=America/New_York:20240228T160000
DTSTAMP:20260419T192853
CREATED:20231212T172411Z
LAST-MODIFIED:20231212T172411Z
UID:10001994-1709132400-1709136000@www.triadgoodwill.org
SUMMARY:Virtual Training: Online Safety: Protecting Your Digital Footprint
DESCRIPTION:Online Safety: Protecting Your Digital Footprint on Wednesday February 28\, 3:00PM – 4:00PM via Zoom. \nThe internet is how most of us communicate\, find out the latest news\, and shop. It is also potentially dangerous with many bad actors trying to obtain your information and take advantage of you. This training session will teach you how to safely navigate the internet and protect your personal information. Topics will include: \n\nHow to build your awareness for internet safety and possible dangers.\nIdentify how to properly share information safely.\nUnderstand the steps to take to protect yourself online.\n\nClick to register: https://us06web.zoom.us/meeting/register/tZ0uceCupz4pHN38VS9py5cM5EsbCXf1cgtl
URL:https://www.triadgoodwill.org/event/virtual-training-online-safety-protecting-your-digital-footprint-5/
LOCATION:Zoom\, Email for Details\, NC\, United States
CATEGORIES:Train
ATTACH;FMTTYPE=image/png:https://www.triadgoodwill.org/wp-content/uploads/2023/06/Online-Safety_-Protecting-Your-Digital-Footprint.png
ORGANIZER;CN="Triad Goodwill":MAILTO:marketing@triadgoodwill.org
END:VEVENT
END:VCALENDAR