BEGIN:VCALENDAR
VERSION:2.0
PRODID:-//Triad Goodwill - ECPv6.15.20//NONSGML v1.0//EN
CALSCALE:GREGORIAN
METHOD:PUBLISH
X-WR-CALNAME:Triad Goodwill
X-ORIGINAL-URL:https://www.triadgoodwill.org
X-WR-CALDESC:Events for Triad Goodwill
REFRESH-INTERVAL;VALUE=DURATION:PT1H
X-Robots-Tag:noindex
X-PUBLISHED-TTL:PT1H
BEGIN:VTIMEZONE
TZID:America/New_York
BEGIN:DAYLIGHT
TZOFFSETFROM:-0500
TZOFFSETTO:-0400
TZNAME:EDT
DTSTART:20230312T070000
END:DAYLIGHT
BEGIN:STANDARD
TZOFFSETFROM:-0400
TZOFFSETTO:-0500
TZNAME:EST
DTSTART:20231105T060000
END:STANDARD
BEGIN:DAYLIGHT
TZOFFSETFROM:-0500
TZOFFSETTO:-0400
TZNAME:EDT
DTSTART:20240310T070000
END:DAYLIGHT
BEGIN:STANDARD
TZOFFSETFROM:-0400
TZOFFSETTO:-0500
TZNAME:EST
DTSTART:20241103T060000
END:STANDARD
BEGIN:DAYLIGHT
TZOFFSETFROM:-0500
TZOFFSETTO:-0400
TZNAME:EDT
DTSTART:20250309T070000
END:DAYLIGHT
BEGIN:STANDARD
TZOFFSETFROM:-0400
TZOFFSETTO:-0500
TZNAME:EST
DTSTART:20251102T060000
END:STANDARD
END:VTIMEZONE
BEGIN:VEVENT
DTSTART;TZID=America/New_York:20240318T150000
DTEND;TZID=America/New_York:20240318T160000
DTSTAMP:20260420T082709
CREATED:20231212T182814Z
LAST-MODIFIED:20231212T182814Z
UID:10002006-1710774000-1710777600@www.triadgoodwill.org
SUMMARY:Virtual Training: Job Searching Strategies
DESCRIPTION:Job Searching Strategies on Monday March 18\, 3:00PM – 4:00PM via Zoom. \nSearching for a job can be a difficult and sometimes frustrating task. This training session is designed to assist you with the most current job-searching methods and to develop a plan to maximize your searching potential. Topics reviewed will include: \n\nLearning the concept of networking and how this can enhance your job search.\nDevelop strategies for a targeted job search.\nHow to use keywords for your online job search.\nUploading your resume into online accounts.\n\nClick to register: https://us06web.zoom.us/meeting/register/tZMtceGtqDMoG9I3cZnlGbdzLUEGvgH4h7uF
URL:https://www.triadgoodwill.org/event/virtual-training-job-searching-strategies-17/
LOCATION:Zoom\, Email for Details\, NC\, United States
CATEGORIES:Train
ATTACH;FMTTYPE=image/png:https://www.triadgoodwill.org/wp-content/uploads/2023/06/Job-Searching-Strategies.png
ORGANIZER;CN="Triad Goodwill":MAILTO:marketing@triadgoodwill.org
END:VEVENT
END:VCALENDAR