BEGIN:VCALENDAR
VERSION:2.0
PRODID:-//Triad Goodwill - ECPv6.15.20//NONSGML v1.0//EN
CALSCALE:GREGORIAN
METHOD:PUBLISH
X-ORIGINAL-URL:https://www.triadgoodwill.org
X-WR-CALDESC:Events for Triad Goodwill
REFRESH-INTERVAL;VALUE=DURATION:PT1H
X-Robots-Tag:noindex
X-PUBLISHED-TTL:PT1H
BEGIN:VTIMEZONE
TZID:America/New_York
BEGIN:DAYLIGHT
TZOFFSETFROM:-0500
TZOFFSETTO:-0400
TZNAME:EDT
DTSTART:20230312T070000
END:DAYLIGHT
BEGIN:STANDARD
TZOFFSETFROM:-0400
TZOFFSETTO:-0500
TZNAME:EST
DTSTART:20231105T060000
END:STANDARD
BEGIN:DAYLIGHT
TZOFFSETFROM:-0500
TZOFFSETTO:-0400
TZNAME:EDT
DTSTART:20240310T070000
END:DAYLIGHT
BEGIN:STANDARD
TZOFFSETFROM:-0400
TZOFFSETTO:-0500
TZNAME:EST
DTSTART:20241103T060000
END:STANDARD
BEGIN:DAYLIGHT
TZOFFSETFROM:-0500
TZOFFSETTO:-0400
TZNAME:EDT
DTSTART:20250309T070000
END:DAYLIGHT
BEGIN:STANDARD
TZOFFSETFROM:-0400
TZOFFSETTO:-0500
TZNAME:EST
DTSTART:20251102T060000
END:STANDARD
END:VTIMEZONE
BEGIN:VEVENT
DTSTART;TZID=America/New_York:20240506T140000
DTEND;TZID=America/New_York:20240506T150000
DTSTAMP:20260419T180547
CREATED:20240326T142828Z
LAST-MODIFIED:20240326T142828Z
UID:10002320-1715004000-1715007600@www.triadgoodwill.org
SUMMARY:Virtual Training - Showcase Your Skills: Resume Design and Content
DESCRIPTION:Step-by-step resume development has never been easier. \nYou’ll learn:\n• The purpose of a resume\n• Advantages and disadvantages of common resume formats\n• How to leverage ALL of your work experience to strengthen your resume\n• The pitfalls to avoid \nClick to register: https://us06web.zoom.us/meeting/register/tZIkd-ihpjgjEtAahXpUCDSKePxRGuJDSHjr
URL:https://www.triadgoodwill.org/event/virtual-training-showcase-your-skills-resume-design-and-content-2/
LOCATION:Zoom\, Email for Details\, NC\, United States
CATEGORIES:Train
ATTACH;FMTTYPE=image/png:https://www.triadgoodwill.org/wp-content/uploads/2024/03/Showcase-Your-Skills_-Resume-Design-and-Content.png
ORGANIZER;CN="Triad Goodwill":MAILTO:marketing@triadgoodwill.org
END:VEVENT
BEGIN:VEVENT
DTSTART;TZID=America/New_York:20240506T140000
DTEND;TZID=America/New_York:20240506T160000
DTSTAMP:20260419T180547
CREATED:20240326T143846Z
LAST-MODIFIED:20240326T143846Z
UID:10002325-1715004000-1715011200@www.triadgoodwill.org
SUMMARY:Virtual Training - Canva Bootcamp Part 1: Introduction to Canva
DESCRIPTION:Embark on your design journey with Canva Bootcamp Part 1: Introduction to Canva! In this interactive workshop\, you’ll discover the power of Canva\, the intuitive graphic design platform loved by millions worldwide. Whether you’re a beginner or seeking to enhance your design skills\, this session is your gateway to creating stunning visuals effortlessly. Learn the basics of navigating Canva’s interface\, explore its vast library of templates\, and unleash your creativity with simple yet effective design techniques. Join us and unlock the potential to bring your ideas to life! \nClick to register: https://us06web.zoom.us/meeting/register/tZUocuCoqz8pGdP7vJU5lrXmxXDv-vFGg1st
URL:https://www.triadgoodwill.org/event/virtual-training-canva-bootcamp-part-1-introduction-to-canva/
LOCATION:Zoom\, Email for Details\, NC\, United States
CATEGORIES:Train
ATTACH;FMTTYPE=image/png:https://www.triadgoodwill.org/wp-content/uploads/2024/03/Canva-Bootcamp.png
ORGANIZER;CN="Triad Goodwill":MAILTO:marketing@triadgoodwill.org
END:VEVENT
END:VCALENDAR