BEGIN:VCALENDAR
VERSION:2.0
PRODID:-//Triad Goodwill - ECPv6.15.20//NONSGML v1.0//EN
CALSCALE:GREGORIAN
METHOD:PUBLISH
X-WR-CALNAME:Triad Goodwill
X-ORIGINAL-URL:https://www.triadgoodwill.org
X-WR-CALDESC:Events for Triad Goodwill
REFRESH-INTERVAL;VALUE=DURATION:PT1H
X-Robots-Tag:noindex
X-PUBLISHED-TTL:PT1H
BEGIN:VTIMEZONE
TZID:America/New_York
BEGIN:DAYLIGHT
TZOFFSETFROM:-0500
TZOFFSETTO:-0400
TZNAME:EDT
DTSTART:20230312T070000
END:DAYLIGHT
BEGIN:STANDARD
TZOFFSETFROM:-0400
TZOFFSETTO:-0500
TZNAME:EST
DTSTART:20231105T060000
END:STANDARD
BEGIN:DAYLIGHT
TZOFFSETFROM:-0500
TZOFFSETTO:-0400
TZNAME:EDT
DTSTART:20240310T070000
END:DAYLIGHT
BEGIN:STANDARD
TZOFFSETFROM:-0400
TZOFFSETTO:-0500
TZNAME:EST
DTSTART:20241103T060000
END:STANDARD
BEGIN:DAYLIGHT
TZOFFSETFROM:-0500
TZOFFSETTO:-0400
TZNAME:EDT
DTSTART:20250309T070000
END:DAYLIGHT
BEGIN:STANDARD
TZOFFSETFROM:-0400
TZOFFSETTO:-0500
TZNAME:EST
DTSTART:20251102T060000
END:STANDARD
END:VTIMEZONE
BEGIN:VEVENT
DTSTART;TZID=America/New_York:20240513T100000
DTEND;TZID=America/New_York:20240513T120000
DTSTAMP:20260420T082713
CREATED:20240326T144000Z
LAST-MODIFIED:20240326T144000Z
UID:10002326-1715594400-1715601600@www.triadgoodwill.org
SUMMARY:Virtual Training - Canva Bootcamp Part 2: Fundamentals of Design
DESCRIPTION:Ready to elevate your design game? Join us for Canva Bootcamp Part 2: Fundamentals of Design! Dive deep into the principles of design and sharpen your creative skills to craft visually captivating content. From understanding color theory to mastering typography\, this workshop equips you with essential design knowledge to communicate your message effectively. Explore advanced features within Canva\, experiment with layouts\, and gain insights into creating balanced and aesthetically pleasing designs. Whether you’re a business owner\, marketer\, or aspiring designer\, this session will empower you to create professional-quality visuals that stand out from the crowd. \nClick to register: https://us06web.zoom.us/meeting/register/tZ0rfu2tqTkrEtzflDY22UMdBMwgtUCI7hs-
URL:https://www.triadgoodwill.org/event/virtual-training-canva-bootcamp-part-2-fundamentals-of-design/
LOCATION:Zoom\, Email for Details\, NC\, United States
CATEGORIES:Train
ATTACH;FMTTYPE=image/png:https://www.triadgoodwill.org/wp-content/uploads/2024/03/Canva-Bootcamp.png
ORGANIZER;CN="Triad Goodwill":MAILTO:marketing@triadgoodwill.org
END:VEVENT
END:VCALENDAR