BEGIN:VCALENDAR
VERSION:2.0
PRODID:-//Triad Goodwill - ECPv6.15.20//NONSGML v1.0//EN
CALSCALE:GREGORIAN
METHOD:PUBLISH
X-WR-CALNAME:Triad Goodwill
X-ORIGINAL-URL:https://www.triadgoodwill.org
X-WR-CALDESC:Events for Triad Goodwill
REFRESH-INTERVAL;VALUE=DURATION:PT1H
X-Robots-Tag:noindex
X-PUBLISHED-TTL:PT1H
BEGIN:VTIMEZONE
TZID:America/New_York
BEGIN:DAYLIGHT
TZOFFSETFROM:-0500
TZOFFSETTO:-0400
TZNAME:EDT
DTSTART:20230312T070000
END:DAYLIGHT
BEGIN:STANDARD
TZOFFSETFROM:-0400
TZOFFSETTO:-0500
TZNAME:EST
DTSTART:20231105T060000
END:STANDARD
BEGIN:DAYLIGHT
TZOFFSETFROM:-0500
TZOFFSETTO:-0400
TZNAME:EDT
DTSTART:20240310T070000
END:DAYLIGHT
BEGIN:STANDARD
TZOFFSETFROM:-0400
TZOFFSETTO:-0500
TZNAME:EST
DTSTART:20241103T060000
END:STANDARD
BEGIN:DAYLIGHT
TZOFFSETFROM:-0500
TZOFFSETTO:-0400
TZNAME:EDT
DTSTART:20250309T070000
END:DAYLIGHT
BEGIN:STANDARD
TZOFFSETFROM:-0400
TZOFFSETTO:-0500
TZNAME:EST
DTSTART:20251102T060000
END:STANDARD
END:VTIMEZONE
BEGIN:VEVENT
DTSTART;TZID=America/New_York:20240520T130000
DTEND;TZID=America/New_York:20240520T150000
DTSTAMP:20260420T143352
CREATED:20240326T144109Z
LAST-MODIFIED:20240326T144109Z
UID:10002327-1716210000-1716217200@www.triadgoodwill.org
SUMMARY:Virtual Training - Canva Bootcamp Part 3: Advanced Design
DESCRIPTION:Ready to take your design prowess to the next level? Join us for Canva Bootcamp Part 3: Advanced Design! In this dynamic workshop\, you’ll delve into the realm of advanced design techniques and unleash the full potential of Canva’s features. From mastering photo editing tools to creating custom graphics and animations\, this session empowers you to push the boundaries of your creativity. Learn insider tips from industry professionals\, explore advanced design concepts\, and discover how to craft visually stunning content that captivates your audience. Whether you’re a seasoned designer or a Canva enthusiast looking to expand your skills\, this workshop is your gateway to creating standout designs that leave a lasting impression. \nClick to register: https://us06web.zoom.us/meeting/register/tZwrduysqTooEtbljohtfor91OhaPugu_aTJ
URL:https://www.triadgoodwill.org/event/virtual-training-canva-bootcamp-part-3-advanced-design/
LOCATION:Zoom\, Email for Details\, NC\, United States
CATEGORIES:Train
ATTACH;FMTTYPE=image/png:https://www.triadgoodwill.org/wp-content/uploads/2024/03/Canva-Bootcamp.png
ORGANIZER;CN="Triad Goodwill":MAILTO:marketing@triadgoodwill.org
END:VEVENT
BEGIN:VEVENT
DTSTART;TZID=America/New_York:20240520T140000
DTEND;TZID=America/New_York:20240520T150000
DTSTAMP:20260420T143352
CREATED:20240326T143032Z
LAST-MODIFIED:20240326T143032Z
UID:10002322-1716213600-1716217200@www.triadgoodwill.org
SUMMARY:Virtual Training - Develop Your Soft Skills Superpowers
DESCRIPTION:Soft skills are the most in-demand skills for employers today. Once you have them\, they are durable and will grow with you throughout your career. \nYou’ll learn: \n\nThe top 7 soft skills looked for by employers\nHow soft skills affect relationships with coworkers and supervisors (even difficult ones!)\nHow to use soft skills for career advancement\, promotion opportunities\, and the job search\n\nClick to register: https://us06web.zoom.us/meeting/register/tZckcOGtrTIrHNKhWMg1WzJKu_sdVFlPmlbU
URL:https://www.triadgoodwill.org/event/virtual-training-develop-your-soft-skills-superpowers-2/
LOCATION:Zoom\, Email for Details\, NC\, United States
CATEGORIES:Train
ATTACH;FMTTYPE=image/png:https://www.triadgoodwill.org/wp-content/uploads/2024/03/Develop-Your-Soft-Skills-Superpowers.png
ORGANIZER;CN="Triad Goodwill":MAILTO:marketing@triadgoodwill.org
END:VEVENT
END:VCALENDAR