BEGIN:VCALENDAR
VERSION:2.0
PRODID:-//Triad Goodwill - ECPv6.15.20//NONSGML v1.0//EN
CALSCALE:GREGORIAN
METHOD:PUBLISH
X-WR-CALNAME:Triad Goodwill
X-ORIGINAL-URL:https://www.triadgoodwill.org
X-WR-CALDESC:Events for Triad Goodwill
REFRESH-INTERVAL;VALUE=DURATION:PT1H
X-Robots-Tag:noindex
X-PUBLISHED-TTL:PT1H
BEGIN:VTIMEZONE
TZID:America/New_York
BEGIN:DAYLIGHT
TZOFFSETFROM:-0500
TZOFFSETTO:-0400
TZNAME:EDT
DTSTART:20230312T070000
END:DAYLIGHT
BEGIN:STANDARD
TZOFFSETFROM:-0400
TZOFFSETTO:-0500
TZNAME:EST
DTSTART:20231105T060000
END:STANDARD
BEGIN:DAYLIGHT
TZOFFSETFROM:-0500
TZOFFSETTO:-0400
TZNAME:EDT
DTSTART:20240310T070000
END:DAYLIGHT
BEGIN:STANDARD
TZOFFSETFROM:-0400
TZOFFSETTO:-0500
TZNAME:EST
DTSTART:20241103T060000
END:STANDARD
BEGIN:DAYLIGHT
TZOFFSETFROM:-0500
TZOFFSETTO:-0400
TZNAME:EDT
DTSTART:20250309T070000
END:DAYLIGHT
BEGIN:STANDARD
TZOFFSETFROM:-0400
TZOFFSETTO:-0500
TZNAME:EST
DTSTART:20251102T060000
END:STANDARD
END:VTIMEZONE
BEGIN:VEVENT
DTSTART;TZID=America/New_York:20240523T110000
DTEND;TZID=America/New_York:20240523T140000
DTSTAMP:20260419T192846
CREATED:20240502T175332Z
LAST-MODIFIED:20240502T175430Z
UID:10002342-1716462000-1716472800@www.triadgoodwill.org
SUMMARY:Careers On The Outside: Drop-In Session - Randolph County
DESCRIPTION:Drop in to chat with Triad Goodwill about a new program in Randolph County – Careers On The Outside! \nThursday\, May 23rd\, from 11am-2pm \nAt the NCWorks Career Center: 1007 S. Fayetteville Street\, Asheboro\, NC 27203 \nCome talk to us about: \n\nCareer opportunities\nAny obstacles to employment\nYour work history and goals\n\nAttendees will receive training to gain the skills needed to get a job\, keep a job\, and advance in your career\, regardless of their criminal record. Participants of the Careers On The Outside program are connected with second-chance employers and receive case management services for at least 12 months. \nRegister here: https://form.jotform.com/240813847927163
URL:https://www.triadgoodwill.org/event/careers-on-the-outside-drop-in-session/
LOCATION:NC
CATEGORIES:Community
ATTACH;FMTTYPE=image/png:https://www.triadgoodwill.org/wp-content/uploads/2024/05/20240523_keatons-place_flyer_8x11.png
ORGANIZER;CN="Triad Goodwill":MAILTO:marketing@triadgoodwill.org
END:VEVENT
END:VCALENDAR