BEGIN:VCALENDAR
VERSION:2.0
PRODID:-//Triad Goodwill - ECPv6.15.20//NONSGML v1.0//EN
CALSCALE:GREGORIAN
METHOD:PUBLISH
X-ORIGINAL-URL:https://www.triadgoodwill.org
X-WR-CALDESC:Events for Triad Goodwill
REFRESH-INTERVAL;VALUE=DURATION:PT1H
X-Robots-Tag:noindex
X-PUBLISHED-TTL:PT1H
BEGIN:VTIMEZONE
TZID:America/New_York
BEGIN:DAYLIGHT
TZOFFSETFROM:-0500
TZOFFSETTO:-0400
TZNAME:EDT
DTSTART:20240310T070000
END:DAYLIGHT
BEGIN:STANDARD
TZOFFSETFROM:-0400
TZOFFSETTO:-0500
TZNAME:EST
DTSTART:20241103T060000
END:STANDARD
BEGIN:DAYLIGHT
TZOFFSETFROM:-0500
TZOFFSETTO:-0400
TZNAME:EDT
DTSTART:20250309T070000
END:DAYLIGHT
BEGIN:STANDARD
TZOFFSETFROM:-0400
TZOFFSETTO:-0500
TZNAME:EST
DTSTART:20251102T060000
END:STANDARD
BEGIN:DAYLIGHT
TZOFFSETFROM:-0500
TZOFFSETTO:-0400
TZNAME:EDT
DTSTART:20260308T070000
END:DAYLIGHT
BEGIN:STANDARD
TZOFFSETFROM:-0400
TZOFFSETTO:-0500
TZNAME:EST
DTSTART:20261101T060000
END:STANDARD
END:VTIMEZONE
BEGIN:VEVENT
DTSTART;TZID=America/New_York:20250415T140000
DTEND;TZID=America/New_York:20250415T150000
DTSTAMP:20260419T205448
CREATED:20250407T191809Z
LAST-MODIFIED:20250407T192256Z
UID:10002419-1744725600-1744729200@www.triadgoodwill.org
SUMMARY:Out of The Garden Fresh Mobile Market
DESCRIPTION:We are partnering with Out of the Garden Project with a series of mobile markets at our home office at 1235 S Eugene St in Greensboro! \nIndividuals can drive or walk-up to the market to receive food. Walk-ups can go up to an Out of the Garden staff member to check-in and will then be called when it is their turn to receive food. Participating families must qualify by income — at the market a staff member will ask a few questions to validate income eligibility. \nDownload the Flyer
URL:https://www.triadgoodwill.org/event/out-of-the-garden-fresh-mobile-market-3/
LOCATION:Home Office\, 1235 S. Eugene Street\, Greensboro\, NC\, 27406\, United States
CATEGORIES:Community
ATTACH;FMTTYPE=image/png:https://www.triadgoodwill.org/wp-content/uploads/2025/04/OOTG_TriadGoodwillMobile-Market-e1744053404524.png
ORGANIZER;CN="Triad Goodwill":MAILTO:marketing@triadgoodwill.org
END:VEVENT
BEGIN:VEVENT
DTSTART;TZID=America/New_York:20250415T140000
DTEND;TZID=America/New_York:20250415T160000
DTSTAMP:20260419T205448
CREATED:20250407T162457Z
LAST-MODIFIED:20250407T164858Z
UID:10002418-1744725600-1744732800@www.triadgoodwill.org
SUMMARY:Goodwill on the Go Mobile Unit - High Point Tech for Vets Event
DESCRIPTION:Find us onsite at the High Point Public Library at 901 N Main St\, High Point\, NC. \nStarting this year\, veterans need an online account to access their VA benefits— and we’re here to help you every step of the way. Our Goodwill on the Go unit\, with instructors from the NC Cooperative Extension\, will be on hand to guide you through creating and navigating all three of your VA benefit accounts. \nWhat to expect: \n\nCoaching on the digital skills needed to access veteran benefits\nStep-by-step assistance in setting up your online VA accounts\nLearn how to navigate the platforms to easily find and use services\n\nPrior registration is encouraged: https://form.jotform.com/250864374012150 \nDownload the Flyer
URL:https://www.triadgoodwill.org/event/goodwill-on-the-go-mobile-unit-high-point-tech-for-vets-event/2025-04-15/
LOCATION:High Point Public Library\, 901 N Main St\, High Point\, 27262\, United States
CATEGORIES:Community,Goodwill on the Go
ATTACH;FMTTYPE=image/png:https://www.triadgoodwill.org/wp-content/uploads/2025/04/04.2025-Tech-for-Vets-GG-Event-e1744042986438.png
ORGANIZER;CN="Triad Goodwill":MAILTO:marketing@triadgoodwill.org
END:VEVENT
END:VCALENDAR