BEGIN:VCALENDAR
VERSION:2.0
PRODID:-//Triad Goodwill - ECPv6.15.20//NONSGML v1.0//EN
CALSCALE:GREGORIAN
METHOD:PUBLISH
X-ORIGINAL-URL:https://www.triadgoodwill.org
X-WR-CALDESC:Events for Triad Goodwill
REFRESH-INTERVAL;VALUE=DURATION:PT1H
X-Robots-Tag:noindex
X-PUBLISHED-TTL:PT1H
BEGIN:VTIMEZONE
TZID:America/New_York
BEGIN:DAYLIGHT
TZOFFSETFROM:-0500
TZOFFSETTO:-0400
TZNAME:EDT
DTSTART:20240310T070000
END:DAYLIGHT
BEGIN:STANDARD
TZOFFSETFROM:-0400
TZOFFSETTO:-0500
TZNAME:EST
DTSTART:20241103T060000
END:STANDARD
BEGIN:DAYLIGHT
TZOFFSETFROM:-0500
TZOFFSETTO:-0400
TZNAME:EDT
DTSTART:20250309T070000
END:DAYLIGHT
BEGIN:STANDARD
TZOFFSETFROM:-0400
TZOFFSETTO:-0500
TZNAME:EST
DTSTART:20251102T060000
END:STANDARD
BEGIN:DAYLIGHT
TZOFFSETFROM:-0500
TZOFFSETTO:-0400
TZNAME:EDT
DTSTART:20260308T070000
END:DAYLIGHT
BEGIN:STANDARD
TZOFFSETFROM:-0400
TZOFFSETTO:-0500
TZNAME:EST
DTSTART:20261101T060000
END:STANDARD
END:VTIMEZONE
BEGIN:VEVENT
DTSTART;TZID=America/New_York:20250517T100000
DTEND;TZID=America/New_York:20250517T140000
DTSTAMP:20260419T103426
CREATED:20250429T195939Z
LAST-MODIFIED:20250602T181157Z
UID:10002121-1747476000-1747490400@www.triadgoodwill.org
SUMMARY:New Hope Community Development Group Annual Homeless Resource Fair
DESCRIPTION:Find Goodwill on the Go onsite at Triad Adult and Pediatric Medicine at 1002 South Elm Eugene Street\, Greensboro\, NC. \nNew Hope will be providing food\, clothing\, toiletries\, shoes\, etc.\, and there will be vendors on site who can provide additional resources. \nGoodwill on the Go will provide: \n\nEmployment Services: Our team will assist you with job searches\, resume writing\, and interview techniques to help you secure employment.\nCareer Development: Get personalized career advice and explore different career paths with the help of our experienced counselors.\nSkill Enhancement: Discover training programs and educational opportunities that can help you develop new skills and advance your career.\nCommunity Support: Learn about local resources and services that can aid in your personal and professional growth.
URL:https://www.triadgoodwill.org/event/new-hope-community-development-group-annual-homeless-resource-fair/
LOCATION:Triad Adult and Pediatric Medicine\, 1002 South Eugene Elm St\, Greensboro\, 27406\, United States
CATEGORIES:Community,Goodwill on the Go
ATTACH;FMTTYPE=image/jpeg:https://www.triadgoodwill.org/wp-content/uploads/2025/01/TILE-TRAIN-GoodwillontheGo.jpg
ORGANIZER;CN="Triad Goodwill":MAILTO:marketing@triadgoodwill.org
END:VEVENT
END:VCALENDAR