BEGIN:VCALENDAR
VERSION:2.0
PRODID:-//Triad Goodwill - ECPv6.15.20//NONSGML v1.0//EN
CALSCALE:GREGORIAN
METHOD:PUBLISH
X-ORIGINAL-URL:https://www.triadgoodwill.org
X-WR-CALDESC:Events for Triad Goodwill
REFRESH-INTERVAL;VALUE=DURATION:PT1H
X-Robots-Tag:noindex
X-PUBLISHED-TTL:PT1H
BEGIN:VTIMEZONE
TZID:America/New_York
BEGIN:DAYLIGHT
TZOFFSETFROM:-0500
TZOFFSETTO:-0400
TZNAME:EDT
DTSTART:20240310T070000
END:DAYLIGHT
BEGIN:STANDARD
TZOFFSETFROM:-0400
TZOFFSETTO:-0500
TZNAME:EST
DTSTART:20241103T060000
END:STANDARD
BEGIN:DAYLIGHT
TZOFFSETFROM:-0500
TZOFFSETTO:-0400
TZNAME:EDT
DTSTART:20250309T070000
END:DAYLIGHT
BEGIN:STANDARD
TZOFFSETFROM:-0400
TZOFFSETTO:-0500
TZNAME:EST
DTSTART:20251102T060000
END:STANDARD
BEGIN:DAYLIGHT
TZOFFSETFROM:-0500
TZOFFSETTO:-0400
TZNAME:EDT
DTSTART:20260308T070000
END:DAYLIGHT
BEGIN:STANDARD
TZOFFSETFROM:-0400
TZOFFSETTO:-0500
TZNAME:EST
DTSTART:20261101T060000
END:STANDARD
END:VTIMEZONE
BEGIN:VEVENT
DTSTART;TZID=America/New_York:20250519T100000
DTEND;TZID=America/New_York:20250519T150000
DTSTAMP:20260419T205641
CREATED:20250429T200151Z
LAST-MODIFIED:20250429T200151Z
UID:10002123-1747648800-1747666800@www.triadgoodwill.org
SUMMARY:Goodwill on the Go Mobile Unit - Randolph County Veteran Services
DESCRIPTION:Find us onsite at Randolph County Veteran Services at 158 Worth St\, Asheboro\, NC 27203. \nThe Goodwill on the Go mobile unit provides public access to digital services across our five-county footprint of Alamance\, Caswell\, Guilford\, Randolph\, and Rockingham county. These services are available to everyone\, including our employees. Come visit us for one-on-one support for: \n\nEmployment Services: Our team will assist you with job searches\, resume writing\, and interview techniques to help you secure employment.\nCareer Development: Get personalized career advice and explore different career paths with the help of our experienced counselors.\nSkill Enhancement: Discover training programs and educational opportunities that can help you develop new skills and advance your career.\nCommunity Support: Learn about local resources and services that can aid in your personal and professional growth.\n\nWalk-ins welcome!
URL:https://www.triadgoodwill.org/event/goodwill-on-the-go-mobile-unit-randolph-county-veteran-services-4/
LOCATION:Randolph County Veteran Services\, 158 Worth Street\, Asheboro\, 27203\, United States
CATEGORIES:Goodwill on the Go
ATTACH;FMTTYPE=image/png:https://www.triadgoodwill.org/wp-content/uploads/2025/03/randolph-county-veteran-services-goodwill-on-the-go.png
ORGANIZER;CN="Triad Goodwill":MAILTO:marketing@triadgoodwill.org
END:VEVENT
BEGIN:VEVENT
DTSTART;TZID=America/New_York:20250519T130000
DTEND;TZID=America/New_York:20250519T140000
DTSTAMP:20260419T205641
CREATED:20250221T181223Z
LAST-MODIFIED:20250303T143406Z
UID:10002393-1747659600-1747663200@www.triadgoodwill.org
SUMMARY:Resume & Cover Letter Writing at NCWorks
DESCRIPTION:Triad Goodwill is offering a one-hour job-readiness workshop to NCWorks participants\, and this month focuses on resume development and cover letter fundamentals! \nReceive step-by-step instruction on how to design a resume and cover letter that will get you that interview. You’ll learn: \n\nThe purpose of a resume\nAdvantages and disadvantages of common resume and cover letter formats\nHow to leverage your work experience to create a great first impression\nThe pitfalls to avoid\nBasic writing and grammar fundamentals\n\nAttendees can also be connected to other Triad Goodwill services and programs\, including but not limited to online learning\, 1-on-1 coaching\, case management\, etc. \nRegister here: https://form.jotform.com/250495948740165 \nDownload the Flyer
URL:https://www.triadgoodwill.org/event/resume-cover-letter-writing/
LOCATION:NCWorks Career Center – Asheboro\, 1007 S. Fayetteville St.\, Asheboro\, 27203\, United States
CATEGORIES:Community,Train
ATTACH;FMTTYPE=image/png:https://www.triadgoodwill.org/wp-content/uploads/2025/02/NCWorks-Randolph-Employability-Workshops-Fliers-May-2025-e1740161519170.png
ORGANIZER;CN="Triad Goodwill":MAILTO:marketing@triadgoodwill.org
END:VEVENT
END:VCALENDAR