BEGIN:VCALENDAR
VERSION:2.0
PRODID:-//Triad Goodwill - ECPv6.15.20//NONSGML v1.0//EN
CALSCALE:GREGORIAN
METHOD:PUBLISH
X-ORIGINAL-URL:https://www.triadgoodwill.org
X-WR-CALDESC:Events for Triad Goodwill
REFRESH-INTERVAL;VALUE=DURATION:PT1H
X-Robots-Tag:noindex
X-PUBLISHED-TTL:PT1H
BEGIN:VTIMEZONE
TZID:America/New_York
BEGIN:DAYLIGHT
TZOFFSETFROM:-0500
TZOFFSETTO:-0400
TZNAME:EDT
DTSTART:20230312T070000
END:DAYLIGHT
BEGIN:STANDARD
TZOFFSETFROM:-0400
TZOFFSETTO:-0500
TZNAME:EST
DTSTART:20231105T060000
END:STANDARD
BEGIN:DAYLIGHT
TZOFFSETFROM:-0500
TZOFFSETTO:-0400
TZNAME:EDT
DTSTART:20240310T070000
END:DAYLIGHT
BEGIN:STANDARD
TZOFFSETFROM:-0400
TZOFFSETTO:-0500
TZNAME:EST
DTSTART:20241103T060000
END:STANDARD
BEGIN:DAYLIGHT
TZOFFSETFROM:-0500
TZOFFSETTO:-0400
TZNAME:EDT
DTSTART:20250309T070000
END:DAYLIGHT
BEGIN:STANDARD
TZOFFSETFROM:-0400
TZOFFSETTO:-0500
TZNAME:EST
DTSTART:20251102T060000
END:STANDARD
END:VTIMEZONE
BEGIN:VEVENT
DTSTART;TZID=America/New_York:20240403T140000
DTEND;TZID=America/New_York:20240403T150000
DTSTAMP:20260419T132146
CREATED:20240326T135639Z
LAST-MODIFIED:20240326T135639Z
UID:10002314-1712152800-1712156400@www.triadgoodwill.org
SUMMARY:Virtual Training - Showcase Your Skills: Resume Design and Content
DESCRIPTION:Step-by-step resume development has never been easier. \nYou’ll learn:\n• The purpose of a resume\n• Advantages and disadvantages of common resume formats\n• How to leverage ALL of your work experience to strengthen your resume\n• The pitfalls to avoid \nClick to register: https://us06web.zoom.us/meeting/register/tZMtduCprz0sGdNSnxpmlhGPCAtmvMAu8yOH
URL:https://www.triadgoodwill.org/event/virtual-training-showcase-your-skills-resume-design-and-content/
LOCATION:Zoom\, Email for Details\, NC\, United States
CATEGORIES:Train
ATTACH;FMTTYPE=image/png:https://www.triadgoodwill.org/wp-content/uploads/2024/03/Showcase-Your-Skills_-Resume-Design-and-Content.png
ORGANIZER;CN="Triad Goodwill":MAILTO:marketing@triadgoodwill.org
END:VEVENT
BEGIN:VEVENT
DTSTART;TZID=America/New_York:20240408T140000
DTEND;TZID=America/New_York:20240408T150000
DTSTAMP:20260419T132146
CREATED:20240326T135915Z
LAST-MODIFIED:20240326T135915Z
UID:10002315-1712584800-1712588400@www.triadgoodwill.org
SUMMARY:Virtual Training - Develop Your Soft Skills Superpowers
DESCRIPTION:Soft skills are the most in-demand skills for employers today. Once you have them\, they are durable and will grow with you throughout your career. \nYou’ll learn: \n\nThe top 7 soft skills looked for by employers\nHow soft skills affect relationships with coworkers and supervisors (even difficult ones!)\nHow to use soft skills for career advancement\, promotion opportunities\, and the job search\n\nClick to register: https://us06web.zoom.us/meeting/register/tZwscO6oqjgpGNX4YluxGMsEmCtKkqvuGwvG
URL:https://www.triadgoodwill.org/event/virtual-training-develop-your-soft-skills-superpowers/
LOCATION:Zoom\, Email for Details\, NC\, United States
CATEGORIES:Train
ATTACH;FMTTYPE=image/png:https://www.triadgoodwill.org/wp-content/uploads/2024/03/Develop-Your-Soft-Skills-Superpowers.png
ORGANIZER;CN="Triad Goodwill":MAILTO:marketing@triadgoodwill.org
END:VEVENT
BEGIN:VEVENT
DTSTART;TZID=America/New_York:20240410T100000
DTEND;TZID=America/New_York:20240410T110000
DTSTAMP:20260419T132146
CREATED:20240326T140121Z
LAST-MODIFIED:20240326T140121Z
UID:10002316-1712743200-1712746800@www.triadgoodwill.org
SUMMARY:Virtual Training - Future-Proof Your Career: A Guide to Upskilling in Today’s Job Market
DESCRIPTION:Explore methods to stay ahead in your career without compromising your budget or resources. \nYou’ll learn: \n\nCost-effective ways to acquire new skills and knowledge to enhance your career prospects\nMethods to stay ahead in your professional journey\nPractical strategies to integrate continuous learning\nIdentify emerging trends and technologies in today’s work place\n\nClick to register: https://us06web.zoom.us/meeting/register/tZUvcO6gqz4qGNXAfYp2gGKDk5MOVgxzk7W5
URL:https://www.triadgoodwill.org/event/virtual-training-future-proof-your-career-a-guide-to-upskilling-in-todays-job-market/
LOCATION:Zoom\, Email for Details\, NC\, United States
CATEGORIES:Train
ATTACH;FMTTYPE=image/png:https://www.triadgoodwill.org/wp-content/uploads/2024/03/Future-Proof-Your-Career_-A-Guide-to-Upskilling-in-Todays-Job-Market.png
ORGANIZER;CN="Triad Goodwill":MAILTO:marketing@triadgoodwill.org
END:VEVENT
BEGIN:VEVENT
DTSTART;TZID=America/New_York:20240415T090000
DTEND;TZID=America/New_York:20240415T163000
DTSTAMP:20260419T132146
CREATED:20240327T193206Z
LAST-MODIFIED:20240327T193206Z
UID:10002340-1713171600-1713198600@www.triadgoodwill.org
SUMMARY:Cone Health Mobile Medicine Unit
DESCRIPTION:The Cone Health Mobile Medicine Unit will be onsite at 1235 S. Eugene Street! The Cone Health Mobile Medicine Unit provides basic\, acute\, and primary care services. All patients age 6 and older are welcome. No appointment is necessary\, as patients will be seen in the order of their arrival. This service is available to everyone\, including our employees. \nLearn more at www.triadgoodwill.org/cone-health-mobile-medicine-unit-at-triad-goodwill/ \n 
URL:https://www.triadgoodwill.org/event/cone-health-mobile-medicine-unit-3/
LOCATION:Greensboro Career Center\, 1235 S. Eugene Street\, Greensboro\, NC\, 27406\, United States
CATEGORIES:Community
ATTACH;FMTTYPE=image/jpeg:https://www.triadgoodwill.org/wp-content/uploads/2023/03/20210913_Cone-Health_FB-banner_795x500.jpg
ORGANIZER;CN="Triad Goodwill":MAILTO:marketing@triadgoodwill.org
END:VEVENT
BEGIN:VEVENT
DTSTART;TZID=America/New_York:20240416T100000
DTEND;TZID=America/New_York:20240416T150000
DTSTAMP:20260419T132146
CREATED:20240327T161710Z
LAST-MODIFIED:20240327T161731Z
UID:10002339-1713261600-1713279600@www.triadgoodwill.org
SUMMARY:Careers On The Outside: Visit to Keaton's Place
DESCRIPTION:At Keaton’s Place: 120 Worth Street\, Asheboro\, NC 27203 \nTuesday\, February 20th\, 10am-4pm \nCareers On The Outside is coming to Randolph County! \nCome talk to us about: \n\nCareer opportunities\nAny obstacles to employment\nYour work history and goals\n(We’ll have donuts!)\n\nDrop in to chat about registering for the next Careers On The Outside class\, which teaches the skills to get a job\, keep a job\, and advance in your career. Graduates of the Careers On The Outside program are connected with second-chance employers and receive case management services for at least 12 months. \nRegister here: https://form.jotform.com/240813847927163
URL:https://www.triadgoodwill.org/event/careers-on-the-outside-visit-to-keatons-place-2/
LOCATION:NC
CATEGORIES:Community
ATTACH;FMTTYPE=application/pdf:https://www.triadgoodwill.org/wp-content/uploads/2024/03/20240416_keatons-place_flyer_8x11.pdf
ORGANIZER;CN="Triad Goodwill":MAILTO:marketing@triadgoodwill.org
END:VEVENT
BEGIN:VEVENT
DTSTART;TZID=America/New_York:20240418T100000
DTEND;TZID=America/New_York:20240418T130000
DTSTAMP:20260419T132146
CREATED:20240327T161413Z
LAST-MODIFIED:20240327T161413Z
UID:10002338-1713434400-1713445200@www.triadgoodwill.org
SUMMARY:Veteran Services: Information Session with Veterans Bridge Home Care Coordinators
DESCRIPTION:At the Triad Goodwill Career Center at 1235 S. Eugene Street in Greensboro\, NC. \nThe greatest factors that impact a successful and healthy life after military service are employment\, housing\, access to VA benefits\, and social connections with other veterans. Veterans Bridge Home (VBH) is that bridge that connects Veterans with the resources needed to thrive. VBH visits the Triad Goodwill monthly to share resources and stories with veterans and their families. \nVBH Care Coordinators have helped attendees: \n\nchange discharge statuses\nobtain veteran-specific housing\nget jobs at veteran-preferred employers\nincrease tax credits\nand much more!\n\nIf any of these describe you\, we encourage you to speak with VBH Care Coordinators at their next info session: \n\nCombat or non-combat veteran\nHonorable or dishonorable discharge\nCurrently registered with the VA or not\nMarried veteran spouse or separated veteran spouse\nServed in the military at least one day\nAre a veteran with a criminal record\n\nFor questions\, please contact the Career Center at 336.544.5305 or careerservices@triadgoodwill.org.
URL:https://www.triadgoodwill.org/event/veteran-services-information-session-with-veterans-bridge-home-care-coordinators-6/
LOCATION:Greensboro Career Center\, 1235 S. Eugene Street\, Greensboro\, NC\, 27406\, United States
CATEGORIES:Community
ATTACH;FMTTYPE=image/png:https://www.triadgoodwill.org/wp-content/uploads/2023/02/Veterans-Bridge-Home-Visit.png
ORGANIZER;CN="Triad Goodwill":MAILTO:marketing@triadgoodwill.org
END:VEVENT
BEGIN:VEVENT
DTSTART;TZID=America/New_York:20240422T140000
DTEND;TZID=America/New_York:20240422T150000
DTSTAMP:20260419T132146
CREATED:20240326T140301Z
LAST-MODIFIED:20240326T140301Z
UID:10002317-1713794400-1713798000@www.triadgoodwill.org
SUMMARY:Virtual Training - Impress for Success: Interviewing Techniques for Standing Out
DESCRIPTION:Showcase your skills\, strengths\, and work experiences in the job interview. Address uncomfortable questions with confidence. \nYou’ll learn: \n\nSteps to prepare for an interview\nIdeal responses to common interview questions\nHow to address gaps in work experience and justice involvement\nAppropriate interview attire\nFollow-up and personal branding tips\n\nClick to register: https://us06web.zoom.us/meeting/register/tZ0rfu6vqT4iHtGnl_D2vAX4Gx3d2JQH5FTd
URL:https://www.triadgoodwill.org/event/virtual-training-impress-for-success-interviewing-techniques-for-standing-out/
LOCATION:Zoom\, Email for Details\, NC\, United States
CATEGORIES:Train
ATTACH;FMTTYPE=image/png:https://www.triadgoodwill.org/wp-content/uploads/2024/03/Impress-for-Success_-Interviewing-Techniques-for-Standing-Out.png
ORGANIZER;CN="Triad Goodwill":MAILTO:marketing@triadgoodwill.org
END:VEVENT
BEGIN:VEVENT
DTSTART;TZID=America/New_York:20240424T100000
DTEND;TZID=America/New_York:20240424T110000
DTSTAMP:20260419T132146
CREATED:20240326T140420Z
LAST-MODIFIED:20240326T140420Z
UID:10002318-1713952800-1713956400@www.triadgoodwill.org
SUMMARY:Virtual Training - Tactics for Today’s Job Market: Strategic Job Searching
DESCRIPTION:Maximize your searching potential with real-world\, practical strategies to find and land your desired job. \nYou’ll learn: \n\nCurrent job search strategies and methods\nHow to develop a job search plan\nWhat networking can do for your job search\nHow to target your job search to where it will help you the most\, including on social media\n\nClick to register: https://us06web.zoom.us/meeting/register/tZwuc-ihrzwrE9Ceh6rq6lycWnA6FRw390ym
URL:https://www.triadgoodwill.org/event/virtual-training-tactics-for-todays-job-market-strategic-job-searching/
LOCATION:Zoom\, Email for Details\, NC\, United States
CATEGORIES:Train
ATTACH;FMTTYPE=image/png:https://www.triadgoodwill.org/wp-content/uploads/2024/03/Tactics-for-Todays-Job-Market_-Strategic-Job-Searching.png
ORGANIZER;CN="Triad Goodwill":MAILTO:marketing@triadgoodwill.org
END:VEVENT
BEGIN:VEVENT
DTSTART;TZID=America/New_York:20240430T090000
DTEND;TZID=America/New_York:20240430T100000
DTSTAMP:20260419T132146
CREATED:20240326T140536Z
LAST-MODIFIED:20240326T140536Z
UID:10002319-1714467600-1714471200@www.triadgoodwill.org
SUMMARY:Virtual Training - Building Connections: Mastering Workplace Communications
DESCRIPTION:Gain invaluable insights into the art of effective communication. \nYou’ll learn: \n\nEssential concepts that serve as the foundation for workplace success.\nHow to integrate impactful communication into your daily interactions\nThe 5 C’s for effective communication\nPractical strategies to enhance clarity\, engagement\, and resonance\n\nClick to register: https://us06web.zoom.us/meeting/register/tZYqd-yhqT4tGNZxnpwCJ6vWlHxMWg3kaUwB
URL:https://www.triadgoodwill.org/event/virtual-training-building-connections-mastering-workplace-communications/
LOCATION:Zoom\, Email for Details\, NC\, United States
CATEGORIES:Train
ATTACH;FMTTYPE=image/png:https://www.triadgoodwill.org/wp-content/uploads/2024/03/Building-Connections_-Mastering-Workplace-Communications.png
ORGANIZER;CN="Triad Goodwill":MAILTO:marketing@triadgoodwill.org
END:VEVENT
END:VCALENDAR