BEGIN:VCALENDAR
VERSION:2.0
PRODID:-//Triad Goodwill - ECPv6.15.20//NONSGML v1.0//EN
CALSCALE:GREGORIAN
METHOD:PUBLISH
X-ORIGINAL-URL:https://www.triadgoodwill.org
X-WR-CALDESC:Events for Triad Goodwill
REFRESH-INTERVAL;VALUE=DURATION:PT1H
X-Robots-Tag:noindex
X-PUBLISHED-TTL:PT1H
BEGIN:VTIMEZONE
TZID:America/New_York
BEGIN:DAYLIGHT
TZOFFSETFROM:-0500
TZOFFSETTO:-0400
TZNAME:EDT
DTSTART:20230312T070000
END:DAYLIGHT
BEGIN:STANDARD
TZOFFSETFROM:-0400
TZOFFSETTO:-0500
TZNAME:EST
DTSTART:20231105T060000
END:STANDARD
BEGIN:DAYLIGHT
TZOFFSETFROM:-0500
TZOFFSETTO:-0400
TZNAME:EDT
DTSTART:20240310T070000
END:DAYLIGHT
BEGIN:STANDARD
TZOFFSETFROM:-0400
TZOFFSETTO:-0500
TZNAME:EST
DTSTART:20241103T060000
END:STANDARD
BEGIN:DAYLIGHT
TZOFFSETFROM:-0500
TZOFFSETTO:-0400
TZNAME:EDT
DTSTART:20250309T070000
END:DAYLIGHT
BEGIN:STANDARD
TZOFFSETFROM:-0400
TZOFFSETTO:-0500
TZNAME:EST
DTSTART:20251102T060000
END:STANDARD
END:VTIMEZONE
BEGIN:VEVENT
DTSTART;TZID=America/New_York:20240705T100000
DTEND;TZID=America/New_York:20240705T200000
DTSTAMP:20260419T210454
CREATED:20240802T143100Z
LAST-MODIFIED:20240802T151437Z
UID:10002350-1720173600-1720209600@www.triadgoodwill.org
SUMMARY:Free Book Friday!
DESCRIPTION:FREE Books for Kids 0-18 Every Friday from June 14th – August 30\nEach Friday between June 14 and August 30 children ages 0-18 can select an age-appropriate book at their favorite Triad Goodwill\, bring it to the register to receive a receipt (no additional purchases are necessary)\, and enjoy! Children must be present to receive a free book\, and are limited to one book per child\, once a day.   \nWhile supplies last\, children will receive a free reusable tote to bring back each week\, plus a few other goodies to celebrate a summer of reading! Participating locations in Guilford County will also have information regarding Ready\, Ready Guilford’s programs – including The Basics\, which provides evidence-based strategies to support brain development in young children. The Basics Guilford shares these strategies with Guilford County parents and providers via regular emails and text messages. \nOur community is encouraged to continue donating their gently used books to help grow and replenish our book selection throughout the summer. Learn more at https://www.triadgoodwill.org/freebookfriday/ \n 
URL:https://www.triadgoodwill.org/event/free-book-friday/2024-07-05/
LOCATION:NC
CATEGORIES:Community,Shop
ATTACH;FMTTYPE=image/png:https://www.triadgoodwill.org/wp-content/uploads/2023/07/free-book-friday-banner.png
ORGANIZER;CN="Triad Goodwill":MAILTO:marketing@triadgoodwill.org
END:VEVENT
BEGIN:VEVENT
DTSTART;TZID=America/New_York:20240708T140000
DTEND;TZID=America/New_York:20240708T150000
DTSTAMP:20260419T210454
CREATED:20240326T152113Z
LAST-MODIFIED:20240326T152113Z
UID:10002024-1720447200-1720450800@www.triadgoodwill.org
SUMMARY:Virtual Training - Impress for Success: Interviewing Techniques for Standing Out
DESCRIPTION:Showcase your skills\, strengths\, and work experiences in the job interview. Address uncomfortable questions with confidence. \nYou’ll learn: \n\nSteps to prepare for an interview\nIdeal responses to common interview questions\nHow to address gaps in work experience and justice involvement\nAppropriate interview attire\nFollow-up and personal branding tips\n\nClick to register: https://us06web.zoom.us/meeting/register/tZUpfuqgqTMqH9DIQG9IsU8ZMOdzMjD1n5N1
URL:https://www.triadgoodwill.org/event/virtual-training-impress-for-success-interviewing-techniques-for-standing-out-4/
LOCATION:Zoom\, Email for Details\, NC\, United States
CATEGORIES:Train
ATTACH;FMTTYPE=image/png:https://www.triadgoodwill.org/wp-content/uploads/2024/03/Impress-for-Success_-Interviewing-Techniques-for-Standing-Out.png
ORGANIZER;CN="Triad Goodwill":MAILTO:marketing@triadgoodwill.org
END:VEVENT
BEGIN:VEVENT
DTSTART;TZID=America/New_York:20240710T100000
DTEND;TZID=America/New_York:20240710T110000
DTSTAMP:20260419T210454
CREATED:20240326T152202Z
LAST-MODIFIED:20240326T152202Z
UID:10002026-1720605600-1720609200@www.triadgoodwill.org
SUMMARY:Virtual Training - Tactics for Today’s Job Market: Strategic Job Searching
DESCRIPTION:Maximize your searching potential with real-world\, practical strategies to find and land your desired job. \nYou’ll learn: \n\nCurrent job search strategies and methods\nHow to develop a job search plan\nWhat networking can do for your job search\nHow to target your job search to where it will help you the most\, including on social media\n\nClick to register: https://us06web.zoom.us/meeting/register/tZIsf-6vqTktGNMN4Pa–XmNefsqj5gC7zE2
URL:https://www.triadgoodwill.org/event/virtual-training-tactics-for-todays-job-market-strategic-job-searching-4/
LOCATION:Zoom\, Email for Details\, NC\, United States
CATEGORIES:Train
ATTACH;FMTTYPE=image/png:https://www.triadgoodwill.org/wp-content/uploads/2024/03/Tactics-for-Todays-Job-Market_-Strategic-Job-Searching.png
ORGANIZER;CN="Triad Goodwill":MAILTO:marketing@triadgoodwill.org
END:VEVENT
BEGIN:VEVENT
DTSTART;TZID=America/New_York:20240712T100000
DTEND;TZID=America/New_York:20240712T200000
DTSTAMP:20260419T210454
CREATED:20240802T143100Z
LAST-MODIFIED:20240802T151437Z
UID:10002351-1720778400-1720814400@www.triadgoodwill.org
SUMMARY:Free Book Friday!
DESCRIPTION:FREE Books for Kids 0-18 Every Friday from June 14th – August 30\nEach Friday between June 14 and August 30 children ages 0-18 can select an age-appropriate book at their favorite Triad Goodwill\, bring it to the register to receive a receipt (no additional purchases are necessary)\, and enjoy! Children must be present to receive a free book\, and are limited to one book per child\, once a day.   \nWhile supplies last\, children will receive a free reusable tote to bring back each week\, plus a few other goodies to celebrate a summer of reading! Participating locations in Guilford County will also have information regarding Ready\, Ready Guilford’s programs – including The Basics\, which provides evidence-based strategies to support brain development in young children. The Basics Guilford shares these strategies with Guilford County parents and providers via regular emails and text messages. \nOur community is encouraged to continue donating their gently used books to help grow and replenish our book selection throughout the summer. Learn more at https://www.triadgoodwill.org/freebookfriday/ \n 
URL:https://www.triadgoodwill.org/event/free-book-friday/2024-07-12/
LOCATION:NC
CATEGORIES:Community,Shop
ATTACH;FMTTYPE=image/png:https://www.triadgoodwill.org/wp-content/uploads/2023/07/free-book-friday-banner.png
ORGANIZER;CN="Triad Goodwill":MAILTO:marketing@triadgoodwill.org
END:VEVENT
BEGIN:VEVENT
DTSTART;TZID=America/New_York:20240715T090000
DTEND;TZID=America/New_York:20240715T163000
DTSTAMP:20260419T210454
CREATED:20240627T160049Z
LAST-MODIFIED:20240627T160049Z
UID:10002346-1721034000-1721061000@www.triadgoodwill.org
SUMMARY:Cone Health Mobile Medicine Unit
DESCRIPTION:The Cone Health Mobile Medicine Unit will be onsite at 1235 S. Eugene Street! The Cone Health Mobile Medicine Unit provides basic\, acute\, and primary care services. All patients age 6 and older are welcome. No appointment is necessary\, as patients will be seen in the order of their arrival. This service is available to everyone\, including our employees. \nLearn more at www.triadgoodwill.org/cone-health-mobile-medicine-unit-at-triad-goodwill/ \n 
URL:https://www.triadgoodwill.org/event/cone-health-mobile-medicine-unit-5/
LOCATION:Greensboro Career Center\, 1235 S. Eugene Street\, Greensboro\, NC\, 27406\, United States
CATEGORIES:Community
ATTACH;FMTTYPE=image/jpeg:https://www.triadgoodwill.org/wp-content/uploads/2021/09/Mobile-Medicine-Bus.jpg
ORGANIZER;CN="Triad Goodwill":MAILTO:marketing@triadgoodwill.org
END:VEVENT
BEGIN:VEVENT
DTSTART;TZID=America/New_York:20240719T100000
DTEND;TZID=America/New_York:20240719T200000
DTSTAMP:20260419T210454
CREATED:20240802T143100Z
LAST-MODIFIED:20240802T151437Z
UID:10002352-1721383200-1721419200@www.triadgoodwill.org
SUMMARY:Free Book Friday!
DESCRIPTION:FREE Books for Kids 0-18 Every Friday from June 14th – August 30\nEach Friday between June 14 and August 30 children ages 0-18 can select an age-appropriate book at their favorite Triad Goodwill\, bring it to the register to receive a receipt (no additional purchases are necessary)\, and enjoy! Children must be present to receive a free book\, and are limited to one book per child\, once a day.   \nWhile supplies last\, children will receive a free reusable tote to bring back each week\, plus a few other goodies to celebrate a summer of reading! Participating locations in Guilford County will also have information regarding Ready\, Ready Guilford’s programs – including The Basics\, which provides evidence-based strategies to support brain development in young children. The Basics Guilford shares these strategies with Guilford County parents and providers via regular emails and text messages. \nOur community is encouraged to continue donating their gently used books to help grow and replenish our book selection throughout the summer. Learn more at https://www.triadgoodwill.org/freebookfriday/ \n 
URL:https://www.triadgoodwill.org/event/free-book-friday/2024-07-19/
LOCATION:NC
CATEGORIES:Community,Shop
ATTACH;FMTTYPE=image/png:https://www.triadgoodwill.org/wp-content/uploads/2023/07/free-book-friday-banner.png
ORGANIZER;CN="Triad Goodwill":MAILTO:marketing@triadgoodwill.org
END:VEVENT
BEGIN:VEVENT
DTSTART;TZID=America/New_York:20240722T140000
DTEND;TZID=America/New_York:20240722T150000
DTSTAMP:20260419T210454
CREATED:20240326T152302Z
LAST-MODIFIED:20240326T152302Z
UID:10002033-1721656800-1721660400@www.triadgoodwill.org
SUMMARY:Virtual Training - Showcase Your Skills: Resume Design and Content
DESCRIPTION:Step-by-step resume development has never been easier. \nYou’ll learn:\n• The purpose of a resume\n• Advantages and disadvantages of common resume formats\n• How to leverage ALL of your work experience to strengthen your resume\n• The pitfalls to avoid \nClick to register: https://us06web.zoom.us/meeting/register/tZUldu6tqTgvH9Ens0RObIkKU8sK8iew662B
URL:https://www.triadgoodwill.org/event/virtual-training-showcase-your-skills-resume-design-and-content-4/
LOCATION:Zoom\, Email for Details\, NC\, United States
CATEGORIES:Train
ATTACH;FMTTYPE=image/png:https://www.triadgoodwill.org/wp-content/uploads/2024/03/Showcase-Your-Skills_-Resume-Design-and-Content.png
ORGANIZER;CN="Triad Goodwill":MAILTO:marketing@triadgoodwill.org
END:VEVENT
BEGIN:VEVENT
DTSTART;TZID=America/New_York:20240724T100000
DTEND;TZID=America/New_York:20240724T110000
DTSTAMP:20260419T210454
CREATED:20240326T152417Z
LAST-MODIFIED:20240326T152417Z
UID:10002035-1721815200-1721818800@www.triadgoodwill.org
SUMMARY:Virtual Training - Future-Proof Your Career: A Guide to Upskilling in Today’s Job Market
DESCRIPTION:Explore methods to stay ahead in your career without compromising your budget or resources. \nYou’ll learn: \n\nCost-effective ways to acquire new skills and knowledge to enhance your career prospects\nMethods to stay ahead in your professional journey\nPractical strategies to integrate continuous learning\nIdentify emerging trends and technologies in today’s work place\n\nClick to register: https://us06web.zoom.us/meeting/register/tZApfumrrzkvEtz0AmkZN3QeT1JMByg-5oWB
URL:https://www.triadgoodwill.org/event/virtual-training-future-proof-your-career-a-guide-to-upskilling-in-todays-job-market-3/
LOCATION:Zoom\, Email for Details\, NC\, United States
CATEGORIES:Train
ATTACH;FMTTYPE=image/png:https://www.triadgoodwill.org/wp-content/uploads/2024/03/Future-Proof-Your-Career_-A-Guide-to-Upskilling-in-Todays-Job-Market.png
ORGANIZER;CN="Triad Goodwill":MAILTO:marketing@triadgoodwill.org
END:VEVENT
BEGIN:VEVENT
DTSTART;TZID=America/New_York:20240726T100000
DTEND;TZID=America/New_York:20240726T200000
DTSTAMP:20260419T210454
CREATED:20240802T143100Z
LAST-MODIFIED:20240802T151437Z
UID:10002353-1721988000-1722024000@www.triadgoodwill.org
SUMMARY:Free Book Friday!
DESCRIPTION:FREE Books for Kids 0-18 Every Friday from June 14th – August 30\nEach Friday between June 14 and August 30 children ages 0-18 can select an age-appropriate book at their favorite Triad Goodwill\, bring it to the register to receive a receipt (no additional purchases are necessary)\, and enjoy! Children must be present to receive a free book\, and are limited to one book per child\, once a day.   \nWhile supplies last\, children will receive a free reusable tote to bring back each week\, plus a few other goodies to celebrate a summer of reading! Participating locations in Guilford County will also have information regarding Ready\, Ready Guilford’s programs – including The Basics\, which provides evidence-based strategies to support brain development in young children. The Basics Guilford shares these strategies with Guilford County parents and providers via regular emails and text messages. \nOur community is encouraged to continue donating their gently used books to help grow and replenish our book selection throughout the summer. Learn more at https://www.triadgoodwill.org/freebookfriday/ \n 
URL:https://www.triadgoodwill.org/event/free-book-friday/2024-07-26/
LOCATION:NC
CATEGORIES:Community,Shop
ATTACH;FMTTYPE=image/png:https://www.triadgoodwill.org/wp-content/uploads/2023/07/free-book-friday-banner.png
ORGANIZER;CN="Triad Goodwill":MAILTO:marketing@triadgoodwill.org
END:VEVENT
BEGIN:VEVENT
DTSTART;TZID=America/New_York:20240730T140000
DTEND;TZID=America/New_York:20240730T150000
DTSTAMP:20260419T210454
CREATED:20240326T152503Z
LAST-MODIFIED:20240326T152503Z
UID:10002328-1722348000-1722351600@www.triadgoodwill.org
SUMMARY:Virtual Training - Develop Your Soft Skills Superpowers
DESCRIPTION:Soft skills are the most in-demand skills for employers today. Once you have them\, they are durable and will grow with you throughout your career. \nYou’ll learn: \n\nThe top 7 soft skills looked for by employers\nHow soft skills affect relationships with coworkers and supervisors (even difficult ones!)\nHow to use soft skills for career advancement\, promotion opportunities\, and the job search\n\nClick to register: https://us06web.zoom.us/meeting/register/tZEqd-ygqTItE9fdL5mrWhM7DcOEnmgIs78z
URL:https://www.triadgoodwill.org/event/virtual-training-develop-your-soft-skills-superpowers-4/
LOCATION:Zoom\, Email for Details\, NC\, United States
CATEGORIES:Train
ATTACH;FMTTYPE=image/png:https://www.triadgoodwill.org/wp-content/uploads/2024/03/Develop-Your-Soft-Skills-Superpowers.png
ORGANIZER;CN="Triad Goodwill":MAILTO:marketing@triadgoodwill.org
END:VEVENT
END:VCALENDAR