BEGIN:VCALENDAR
VERSION:2.0
PRODID:-//Triad Goodwill - ECPv6.15.20//NONSGML v1.0//EN
CALSCALE:GREGORIAN
METHOD:PUBLISH
X-ORIGINAL-URL:https://www.triadgoodwill.org
X-WR-CALDESC:Events for Triad Goodwill
REFRESH-INTERVAL;VALUE=DURATION:PT1H
X-Robots-Tag:noindex
X-PUBLISHED-TTL:PT1H
BEGIN:VTIMEZONE
TZID:America/New_York
BEGIN:DAYLIGHT
TZOFFSETFROM:-0500
TZOFFSETTO:-0400
TZNAME:EDT
DTSTART:20210314T070000
END:DAYLIGHT
BEGIN:STANDARD
TZOFFSETFROM:-0400
TZOFFSETTO:-0500
TZNAME:EST
DTSTART:20211107T060000
END:STANDARD
BEGIN:DAYLIGHT
TZOFFSETFROM:-0500
TZOFFSETTO:-0400
TZNAME:EDT
DTSTART:20220313T070000
END:DAYLIGHT
BEGIN:STANDARD
TZOFFSETFROM:-0400
TZOFFSETTO:-0500
TZNAME:EST
DTSTART:20221106T060000
END:STANDARD
BEGIN:DAYLIGHT
TZOFFSETFROM:-0500
TZOFFSETTO:-0400
TZNAME:EDT
DTSTART:20230312T070000
END:DAYLIGHT
BEGIN:STANDARD
TZOFFSETFROM:-0400
TZOFFSETTO:-0500
TZNAME:EST
DTSTART:20231105T060000
END:STANDARD
END:VTIMEZONE
BEGIN:VEVENT
DTSTART;TZID=America/New_York:20220317T100000
DTEND;TZID=America/New_York:20220317T200000
DTSTAMP:20260420T085604
CREATED:20220225T200352Z
LAST-MODIFIED:20220225T200408Z
UID:10002021-1647511200-1647547200@www.triadgoodwill.org
SUMMARY:Thrift-A-Nista Tour - S. Church St.\, Burlington
DESCRIPTION:Calling all Thriftanistas!— Join us for our LAST THREE STOPS of the 2021-2022 Thriftanista Tour! We’ll pack our stores with name-brand\, #designer brand\, vintage\, and exclusive items including clothing\, shoes\, accessories\, and more all at Triad #Goodwill’s low prices!\n\n8th stop is our S. Church St. location on March 17th! Join us for shopping\, food trucks\, a raffle\, and more! For more information visit www.triadgoodwill.org/thriftanista-tour/
URL:https://www.triadgoodwill.org/event/thrift-a-nista-tour-s-church-st-burlington/
LOCATION:Goodwill #033\, 3740 South Church St.\, Burlington\, NC\, 27215\, United States
CATEGORIES:Shop
ATTACH;FMTTYPE=image/png:https://www.triadgoodwill.org/wp-content/uploads/2022/02/tana-s-church-st.png
ORGANIZER;CN="Triad Goodwill":MAILTO:marketing@triadgoodwill.org
END:VEVENT
END:VCALENDAR