BEGIN:VCALENDAR
VERSION:2.0
PRODID:-//Triad Goodwill - ECPv6.15.20//NONSGML v1.0//EN
CALSCALE:GREGORIAN
METHOD:PUBLISH
X-ORIGINAL-URL:https://www.triadgoodwill.org
X-WR-CALDESC:Events for Triad Goodwill
REFRESH-INTERVAL;VALUE=DURATION:PT1H
X-Robots-Tag:noindex
X-PUBLISHED-TTL:PT1H
BEGIN:VTIMEZONE
TZID:America/New_York
BEGIN:DAYLIGHT
TZOFFSETFROM:-0500
TZOFFSETTO:-0400
TZNAME:EDT
DTSTART:20220313T070000
END:DAYLIGHT
BEGIN:STANDARD
TZOFFSETFROM:-0400
TZOFFSETTO:-0500
TZNAME:EST
DTSTART:20221106T060000
END:STANDARD
BEGIN:DAYLIGHT
TZOFFSETFROM:-0500
TZOFFSETTO:-0400
TZNAME:EDT
DTSTART:20230312T070000
END:DAYLIGHT
BEGIN:STANDARD
TZOFFSETFROM:-0400
TZOFFSETTO:-0500
TZNAME:EST
DTSTART:20231105T060000
END:STANDARD
BEGIN:DAYLIGHT
TZOFFSETFROM:-0500
TZOFFSETTO:-0400
TZNAME:EDT
DTSTART:20240310T070000
END:DAYLIGHT
BEGIN:STANDARD
TZOFFSETFROM:-0400
TZOFFSETTO:-0500
TZNAME:EST
DTSTART:20241103T060000
END:STANDARD
END:VTIMEZONE
BEGIN:VEVENT
DTSTART;TZID=America/New_York:20231204T100000
DTEND;TZID=America/New_York:20231204T110000
DTSTAMP:20260424T152854
CREATED:20230215T193708Z
LAST-MODIFIED:20240301T142132Z
UID:10001741-1701684000-1701687600@www.triadgoodwill.org
SUMMARY:Careers On The Outside: Open Registration
DESCRIPTION:In-Person Event: Careers On The Outside Open Registration\, every Monday from 10:00 a.m. – 11:00 a.m. at Triad Goodwill’s Career Center at 1235 S. Eugene St. in Greensboro. \nCareers On The Outside (formerly known as Jobs On The Outside) is a program designed specifically for individuals with justice involvement to assist with reentering the workforce. The program provides training opportunities that incorporate the individuals’ strengths\, while teaching soft and concrete workplace skills\, cognitive behavioral principals\, job search best practices\, placement assistance\, and supportive services that lead to successful competitive employment. \nInterested participants should register in-person at the Career Center to complete initial paperwork. Classes will be held at the Career Center Monday – Wednesday on designated class weeks. \nFor more information\, interested participants should contact coto@triadgoodwill.org or call (336) 544-5311
URL:https://www.triadgoodwill.org/event/careers-on-the-outside-open-registration/2023-12-04/
LOCATION:Greensboro Career Center\, 1235 S. Eugene Street\, Greensboro\, NC\, 27406\, United States
CATEGORIES:Train
ATTACH;FMTTYPE=image/png:https://www.triadgoodwill.org/wp-content/uploads/2023/02/8-2.png
ORGANIZER;CN="Triad Goodwill":MAILTO:marketing@triadgoodwill.org
END:VEVENT
BEGIN:VEVENT
DTSTART;TZID=America/New_York:20231204T133000
DTEND;TZID=America/New_York:20231204T150000
DTSTAMP:20260424T152854
CREATED:20231003T203215Z
LAST-MODIFIED:20231003T203215Z
UID:10002285-1701696600-1701702000@www.triadgoodwill.org
SUMMARY:Virtual Training: A Guide to Google Drive and Docs
DESCRIPTION:A Guide to Google Drive and Docs on Monday\, December 4 from 1:30PM – 3:00PM via Zoom. \nGoogle Drive is an easy tool to store and access files from any device. You can store pictures\, create a budget sheet\, and share files with family and friends! During this workshop\, you will learn how to navigate Google Drive and Google Docs. \nClick to register: https://us06web.zoom.us/meeting/register/tZAld-qsqz8qGN1HdrOyclSaZqTW3rX6y2dQ
URL:https://www.triadgoodwill.org/event/virtual-training-a-guide-to-google-drive-and-docs/
LOCATION:Zoom\, Email for Details\, NC\, United States
CATEGORIES:Train
ATTACH;FMTTYPE=image/png:https://www.triadgoodwill.org/wp-content/uploads/2023/10/A-Guide-to-Google-Drive-and-Docs.png
ORGANIZER;CN="Triad Goodwill":MAILTO:marketing@triadgoodwill.org
END:VEVENT
BEGIN:VEVENT
DTSTART;TZID=America/New_York:20231205T090000
DTEND;TZID=America/New_York:20231205T130000
DTSTAMP:20260424T152854
CREATED:20231120T153309Z
LAST-MODIFIED:20231120T153309Z
UID:10002289-1701766800-1701781200@www.triadgoodwill.org
SUMMARY:Veteran Services: Information Session with Veterans Bridge Home Care Coordinators
DESCRIPTION:At the Triad Goodwill Career Center at 1235 S. Eugene Street in Greensboro\, NC. \nThe greatest factors that impact a successful and healthy life after military service are employment\, housing\, access to VA benefits\, and social connections with other veterans. Veterans Bridge Home (VBH) is that bridge that connects Veterans with the resources needed to thrive. VBH visits the Triad Goodwill monthly to share resources and stories with veterans and their families. \nVBH Care Coordinators have helped attendees: \n\nchange discharge statuses\nobtain veteran-specific housing\nget jobs at veteran-preferred employers\nincrease tax credits\nand much more!\n\nIf any of these describe you\, we encourage you to speak with VBH Care Coordinators at their next info session: \n\nCombat or non-combat veteran\nHonorable or dishonorable discharge\nCurrently registered with the VA or not\nMarried veteran spouse or separated veteran spouse\nServed in the military at least one day\nAre a veteran with a criminal record\n\nFor questions\, please contact the Career Center at 336.544.5305 or careerservices@triadgoodwill.org.
URL:https://www.triadgoodwill.org/event/veteran-services-information-session-with-veterans-bridge-home-care-coordinators-3/
LOCATION:Greensboro Career Center\, 1235 S. Eugene Street\, Greensboro\, NC\, 27406\, United States
CATEGORIES:Community
ATTACH;FMTTYPE=image/png:https://www.triadgoodwill.org/wp-content/uploads/2023/02/Veterans-Bridge-Home-Visit.png
ORGANIZER;CN="Triad Goodwill":MAILTO:marketing@triadgoodwill.org
END:VEVENT
BEGIN:VEVENT
DTSTART;TZID=America/New_York:20231205T130000
DTEND;TZID=America/New_York:20231205T140000
DTSTAMP:20260424T152854
CREATED:20231003T202433Z
LAST-MODIFIED:20231003T202433Z
UID:10001984-1701781200-1701784800@www.triadgoodwill.org
SUMMARY:Virtual Training: How to Develop a Professional Resume
DESCRIPTION:How to Develop a Professional Resume on Tuesday\, December 5 from 1:00PM – 2:00PM via Zoom. \nThis training session teaches you how to prepare a professional resume that reflects your skills\, knowledge\, and experience that are relevant to the job you are seeking. Topics reviewed will include: \n\nDefining what a resume is and its purpose.\nLearning different resume formats and the advantages and disadvantages of each.\nStep-by-step creation of the most common sections found on resumes.\nLearning what information should be included and what mistakes to avoid.\nHow to prepare and develop a targeted resume.\n\nClick to register: https://us06web.zoom.us/meeting/register/tZAlcOipqzooGtYxrdg1CTAJzr3UcyHdbBot
URL:https://www.triadgoodwill.org/event/virtual-training-how-to-develop-a-professional-resume-6/
LOCATION:Zoom\, Email for Details\, NC\, United States
CATEGORIES:Train
ATTACH;FMTTYPE=image/png:https://www.triadgoodwill.org/wp-content/uploads/2023/06/How-to-Develop-a-Professional-Resume.png
ORGANIZER;CN="Triad Goodwill":MAILTO:marketing@triadgoodwill.org
END:VEVENT
BEGIN:VEVENT
DTSTART;TZID=America/New_York:20231205T133000
DTEND;TZID=America/New_York:20231205T150000
DTSTAMP:20260424T152854
CREATED:20231003T190048Z
LAST-MODIFIED:20231127T141142Z
UID:10001978-1701783000-1701788400@www.triadgoodwill.org
SUMMARY:Virtual Training: Microsoft Excel: Spreadsheet Basics
DESCRIPTION:Microsoft Excel: Spreadsheet Basics on Tuesday\, December 5 from 1:30PM – 3:00PM via Zoom. \nStart at the beginning! Learning the fundamentals of Microsoft Excel spreadsheets is the most important aspect of the platform if you wish to learn more. This course introduces you to the basic fundamentals of Microsoft Excel spreadsheets\, such as the interface\, formatting\, charts\, and more! \nClick to register: https://us06web.zoom.us/meeting/register/tZwtc–vrj0sHNeo6Z22KzWng4Mu_4fM-b0r#/registration
URL:https://www.triadgoodwill.org/event/virtual-training-microsoft-excel-spreadsheet-basics/
LOCATION:Zoom\, Email for Details\, NC\, United States
CATEGORIES:Train
ATTACH;FMTTYPE=image/png:https://www.triadgoodwill.org/wp-content/uploads/2023/10/Microsoft-Excel-Spreadsheet-Basics.png
ORGANIZER;CN="Triad Goodwill":MAILTO:marketing@triadgoodwill.org
END:VEVENT
BEGIN:VEVENT
DTSTART;TZID=America/New_York:20231206T130000
DTEND;TZID=America/New_York:20231206T140000
DTSTAMP:20260424T152854
CREATED:20231003T202546Z
LAST-MODIFIED:20231003T202546Z
UID:10001985-1701867600-1701871200@www.triadgoodwill.org
SUMMARY:Virtual Training: Interviewing Basics: How to Tell Your Story
DESCRIPTION:Interviewing Basics: How to Tell Your Story on Wednesday\, December 6 from 1:00PM – 2:00PM via Zoom. \nThis training session will help you prepare to articulate your skills\, knowledge\, and work experiences for your job interview. Learn how to address common interview questions and preparation strategies. Topics will include: \n\nHow to prepare for virtual interviews.\nHow to address difficult or uncomfortable questions\, such as gaps in work experiences.\nEmploy effective and successful follow-up strategies.\nKeys to re-branding yourself.\nIdentifying the appropriate attire for an interview.\n\nClick to register: https://us06web.zoom.us/meeting/register/tZMlduGsqTstEt0T5gU5bH80C5FP45RqwFGT
URL:https://www.triadgoodwill.org/event/virtual-training-interviewing-basics-how-to-tell-your-story-6/
LOCATION:Zoom\, Email for Details\, NC\, United States
CATEGORIES:Train
ATTACH;FMTTYPE=image/png:https://www.triadgoodwill.org/wp-content/uploads/2023/06/Interviewing-Basics_-How-to-Tell-Your-Story-1.png
ORGANIZER;CN="Triad Goodwill":MAILTO:marketing@triadgoodwill.org
END:VEVENT
END:VCALENDAR