BEGIN:VCALENDAR
VERSION:2.0
PRODID:-//Triad Goodwill - ECPv6.15.20//NONSGML v1.0//EN
CALSCALE:GREGORIAN
METHOD:PUBLISH
X-ORIGINAL-URL:https://www.triadgoodwill.org
X-WR-CALDESC:Events for Triad Goodwill
REFRESH-INTERVAL;VALUE=DURATION:PT1H
X-Robots-Tag:noindex
X-PUBLISHED-TTL:PT1H
BEGIN:VTIMEZONE
TZID:America/New_York
BEGIN:DAYLIGHT
TZOFFSETFROM:-0500
TZOFFSETTO:-0400
TZNAME:EDT
DTSTART:20230312T070000
END:DAYLIGHT
BEGIN:STANDARD
TZOFFSETFROM:-0400
TZOFFSETTO:-0500
TZNAME:EST
DTSTART:20231105T060000
END:STANDARD
BEGIN:DAYLIGHT
TZOFFSETFROM:-0500
TZOFFSETTO:-0400
TZNAME:EDT
DTSTART:20240310T070000
END:DAYLIGHT
BEGIN:STANDARD
TZOFFSETFROM:-0400
TZOFFSETTO:-0500
TZNAME:EST
DTSTART:20241103T060000
END:STANDARD
BEGIN:DAYLIGHT
TZOFFSETFROM:-0500
TZOFFSETTO:-0400
TZNAME:EDT
DTSTART:20250309T070000
END:DAYLIGHT
BEGIN:STANDARD
TZOFFSETFROM:-0400
TZOFFSETTO:-0500
TZNAME:EST
DTSTART:20251102T060000
END:STANDARD
END:VTIMEZONE
BEGIN:VEVENT
DTSTART;TZID=America/New_York:20240108T100000
DTEND;TZID=America/New_York:20240108T110000
DTSTAMP:20260424T122727
CREATED:20230215T193708Z
LAST-MODIFIED:20240301T142132Z
UID:10001746-1704708000-1704711600@www.triadgoodwill.org
SUMMARY:Careers On The Outside: Open Registration
DESCRIPTION:In-Person Event: Careers On The Outside Open Registration\, every Monday from 10:00 a.m. – 11:00 a.m. at Triad Goodwill’s Career Center at 1235 S. Eugene St. in Greensboro. \nCareers On The Outside (formerly known as Jobs On The Outside) is a program designed specifically for individuals with justice involvement to assist with reentering the workforce. The program provides training opportunities that incorporate the individuals’ strengths\, while teaching soft and concrete workplace skills\, cognitive behavioral principals\, job search best practices\, placement assistance\, and supportive services that lead to successful competitive employment. \nInterested participants should register in-person at the Career Center to complete initial paperwork. Classes will be held at the Career Center Monday – Wednesday on designated class weeks. \nFor more information\, interested participants should contact coto@triadgoodwill.org or call (336) 544-5311
URL:https://www.triadgoodwill.org/event/careers-on-the-outside-open-registration/2024-01-08/
LOCATION:Greensboro Career Center\, 1235 S. Eugene Street\, Greensboro\, NC\, 27406\, United States
CATEGORIES:Train
ATTACH;FMTTYPE=image/png:https://www.triadgoodwill.org/wp-content/uploads/2023/02/8-2.png
ORGANIZER;CN="Triad Goodwill":MAILTO:marketing@triadgoodwill.org
END:VEVENT
BEGIN:VEVENT
DTSTART;TZID=America/New_York:20240108T150000
DTEND;TZID=America/New_York:20240108T160000
DTSTAMP:20260424T122727
CREATED:20231212T161937Z
LAST-MODIFIED:20231212T161937Z
UID:10002290-1704726000-1704729600@www.triadgoodwill.org
SUMMARY:Virtual Training: Job Searching Strategies
DESCRIPTION:Job Searching Strategies on Monday January 8\, 3:00PM – 4:00PM via Zoom. \nSearching for a job can be a difficult and sometimes frustrating task. This training session is designed to assist you with the most current job-searching methods and to develop a plan to maximize your searching potential. Topics reviewed will include: \n\nLearning the concept of networking and how this can enhance your job search.\nDevelop strategies for a targeted job search.\nHow to use keywords for your online job search.\nUploading your resume into online accounts.\n\nClick to register: https://us06web.zoom.us/meeting/register/tZMvduGhqzkiE9IiCXUSiZbAunQQkpxecHAr
URL:https://www.triadgoodwill.org/event/virtual-training-job-searching-strategies-15/
LOCATION:Zoom\, Email for Details\, NC\, United States
CATEGORIES:Train
ATTACH;FMTTYPE=image/png:https://www.triadgoodwill.org/wp-content/uploads/2023/06/Job-Searching-Strategies.png
ORGANIZER;CN="Triad Goodwill":MAILTO:marketing@triadgoodwill.org
END:VEVENT
BEGIN:VEVENT
DTSTART;TZID=America/New_York:20240109T090000
DTEND;TZID=America/New_York:20240109T130000
DTSTAMP:20260424T122727
CREATED:20231227T143638Z
LAST-MODIFIED:20231227T143638Z
UID:10002309-1704790800-1704805200@www.triadgoodwill.org
SUMMARY:Veteran Services: Information Session with Veterans Bridge Home Care Coordinators
DESCRIPTION:At the Triad Goodwill Career Center at 1235 S. Eugene Street in Greensboro\, NC. \nThe greatest factors that impact a successful and healthy life after military service are employment\, housing\, access to VA benefits\, and social connections with other veterans. Veterans Bridge Home (VBH) is that bridge that connects Veterans with the resources needed to thrive. VBH visits the Triad Goodwill monthly to share resources and stories with veterans and their families. \nVBH Care Coordinators have helped attendees: \n\nchange discharge statuses\nobtain veteran-specific housing\nget jobs at veteran-preferred employers\nincrease tax credits\nand much more!\n\nIf any of these describe you\, we encourage you to speak with VBH Care Coordinators at their next info session: \n\nCombat or non-combat veteran\nHonorable or dishonorable discharge\nCurrently registered with the VA or not\nMarried veteran spouse or separated veteran spouse\nServed in the military at least one day\nAre a veteran with a criminal record\n\nFor questions\, please contact the Career Center at 336.544.5305 or careerservices@triadgoodwill.org.
URL:https://www.triadgoodwill.org/event/veteran-services-information-session-with-veterans-bridge-home-care-coordinators-4/
LOCATION:Greensboro Career Center\, 1235 S. Eugene Street\, Greensboro\, NC\, 27406\, United States
CATEGORIES:Community
ATTACH;FMTTYPE=image/png:https://www.triadgoodwill.org/wp-content/uploads/2023/02/Veterans-Bridge-Home-Visit.png
ORGANIZER;CN="Triad Goodwill":MAILTO:marketing@triadgoodwill.org
END:VEVENT
BEGIN:VEVENT
DTSTART;TZID=America/New_York:20240109T100000
DTEND;TZID=America/New_York:20240109T120000
DTSTAMP:20260424T122727
CREATED:20231212T162720Z
LAST-MODIFIED:20231212T183534Z
UID:10002295-1704794400-1704801600@www.triadgoodwill.org
SUMMARY:Virtual Training: Creating with Canva
DESCRIPTION:Creating with Canva on Tuesday January 9\, 10:00AM – 12:00PM via Zoom. \nUnlock your creativity and transform your visual storytelling with Creating with Canva – a dynamic 2-hour workshop designed to empower you with the skills and confidence to bring your ideas to life through stunning visuals. In a world where visuals speak louder than words\, mastering graphic design is a game-changer. Canva\, the user-friendly design platform\, has revolutionized the way we create compelling graphics\, presentations\, and social media content. This workshop is your key to unleashing the full potential of Canva\, regardless of your design experience. In this workshop\, you will learn: \n\nCanva Basics: learn the interface\, tools\, and shortcuts to streamline your design process\nDesign Principles: understand color theory\, typography\, and layout to create visuals that captivate your audience\nBranding with Canva: explore techniques for maintaining consistency across designs using Canva branding features\nSocial Media Mastery: craft eye-catching social media posts and stories that stand out in crowded feeds. Learn optimal image sizes and design strategies for various platforms\nEffective Presentation Design: turn lackluster presentations into engaging experiences. Uncover the secrets of creating impactful slides and compelling visual aids.\n\nWho should attend: \n\nEntrepreneurs and small business owners looking to enhance their brand presence\nMarketing professionals seeking to create compelling visuals for campaigns\nEducators and trainers aiming to design captivating learning materials\nSocial media enthusiasts wanting to level up their content game\nAnyone interested in unlocking the power of visual communication.\n\nDon’t miss this opportunity to elevate your design skills and make your visuals speak volumes! Register today for Creating with Canva and transform your creative vision into reality. \nClick to register: https://us06web.zoom.us/meeting/register/tZAuc-qvrz0jGtejiJzT0wX3x29Bm7vZtuPx
URL:https://www.triadgoodwill.org/event/virtual-training-creating-with-canva-3/
LOCATION:Zoom\, Email for Details\, NC\, United States
CATEGORIES:Train
ATTACH;FMTTYPE=image/png:https://www.triadgoodwill.org/wp-content/uploads/2023/09/Creating-with-Canva.png
ORGANIZER;CN="Triad Goodwill":MAILTO:marketing@triadgoodwill.org
END:VEVENT
BEGIN:VEVENT
DTSTART;TZID=America/New_York:20240110T150000
DTEND;TZID=America/New_York:20240110T160000
DTSTAMP:20260424T122727
CREATED:20231212T162129Z
LAST-MODIFIED:20231212T162129Z
UID:10002291-1704898800-1704902400@www.triadgoodwill.org
SUMMARY:Virtual Training: Interviewing Basics: How to Tell Your Story
DESCRIPTION:Interviewing Basics: How to Tell Your Story on Wednesday January 10\, 3:00PM – 4:00PM via Zoom. \nThis training session will help you prepare to articulate your skills\, knowledge\, and work experiences for your job interview. Learn how to address common interview questions and preparation strategies. Topics will include: \n\nHow to prepare for virtual interviews.\nHow to address difficult or uncomfortable questions\, such as gaps in work experiences.\nEmploy effective and successful follow-up strategies.\nKeys to re-branding yourself.\n\nClick to register: https://us06web.zoom.us/meeting/register/tZYuc-qvrD8rHd3_wP3EvhEPjURjB_2l8E5Z
URL:https://www.triadgoodwill.org/event/virtual-training-interviewing-basics-how-to-tell-your-story-7/
LOCATION:Zoom\, Email for Details\, NC\, United States
CATEGORIES:Train
ATTACH;FMTTYPE=image/png:https://www.triadgoodwill.org/wp-content/uploads/2023/06/Interviewing-Basics_-How-to-Tell-Your-Story-1.png
ORGANIZER;CN="Triad Goodwill":MAILTO:marketing@triadgoodwill.org
END:VEVENT
BEGIN:VEVENT
DTSTART;TZID=America/New_York:20240111T170000
DTEND;TZID=America/New_York:20240111T190000
DTSTAMP:20260424T122727
CREATED:20231212T163828Z
LAST-MODIFIED:20231212T163828Z
UID:10002297-1704992400-1704999600@www.triadgoodwill.org
SUMMARY:Virtual Training: Using ChatGPT for Development
DESCRIPTION:Using ChatGPT for Development on Thursday January 11\, 5:00PM – 7:00PM via Zoom. \nEmbark on a journey of innovation and creativity in our 2-hour workshop\, Using ChatGPT for Development. Unleash the power of OpenAI’s cutting-edge language model to enhance your development skills and revolutionize how you approach design and problem-solving. Are you ready to take your development game to the next level? Whether you are blogging\, writing a book\, conducting a podcast\, creating videos\, designing online courses\, and more\, this course will help you bring your abilities up to new heights. In this workshop\, you will learn: \n\nIntroduction to ChatGPT and its capabilities\nThe basics of prompt engineering\nHow to use ChatGPT for blogging\, books\, illustrations\, podcasting\, video creation\, course creation\, social media\, and webinars.\n\nDon’t miss this opportunity to elevate your skills with the help of ChatGPT! Register today for Using ChatGPT for Development and revolutionize your delivery. \nClick to register: https://us06web.zoom.us/meeting/register/tZUqd-GqrD8tGtCb-1kkUZA2yHDkVm43-2mZ
URL:https://www.triadgoodwill.org/event/virtual-training-using-chatgpt-for-development/
LOCATION:Zoom\, Email for Details\, NC\, United States
CATEGORIES:Train
ATTACH;FMTTYPE=image/png:https://www.triadgoodwill.org/wp-content/uploads/2023/12/Using-ChatGPT-for-Development.png
ORGANIZER;CN="Triad Goodwill":MAILTO:marketing@triadgoodwill.org
END:VEVENT
END:VCALENDAR