BEGIN:VCALENDAR
VERSION:2.0
PRODID:-//Triad Goodwill - ECPv6.15.20//NONSGML v1.0//EN
CALSCALE:GREGORIAN
METHOD:PUBLISH
X-WR-CALNAME:Triad Goodwill
X-ORIGINAL-URL:https://www.triadgoodwill.org
X-WR-CALDESC:Events for Triad Goodwill
REFRESH-INTERVAL;VALUE=DURATION:PT1H
X-Robots-Tag:noindex
X-PUBLISHED-TTL:PT1H
BEGIN:VTIMEZONE
TZID:America/New_York
BEGIN:DAYLIGHT
TZOFFSETFROM:-0500
TZOFFSETTO:-0400
TZNAME:EDT
DTSTART:20230312T070000
END:DAYLIGHT
BEGIN:STANDARD
TZOFFSETFROM:-0400
TZOFFSETTO:-0500
TZNAME:EST
DTSTART:20231105T060000
END:STANDARD
BEGIN:DAYLIGHT
TZOFFSETFROM:-0500
TZOFFSETTO:-0400
TZNAME:EDT
DTSTART:20240310T070000
END:DAYLIGHT
BEGIN:STANDARD
TZOFFSETFROM:-0400
TZOFFSETTO:-0500
TZNAME:EST
DTSTART:20241103T060000
END:STANDARD
BEGIN:DAYLIGHT
TZOFFSETFROM:-0500
TZOFFSETTO:-0400
TZNAME:EDT
DTSTART:20250309T070000
END:DAYLIGHT
BEGIN:STANDARD
TZOFFSETFROM:-0400
TZOFFSETTO:-0500
TZNAME:EST
DTSTART:20251102T060000
END:STANDARD
END:VTIMEZONE
BEGIN:VEVENT
DTSTART;TZID=America/New_York:20240115T100000
DTEND;TZID=America/New_York:20240115T110000
DTSTAMP:20260424T122228
CREATED:20230215T193708Z
LAST-MODIFIED:20240301T142132Z
UID:10001747-1705312800-1705316400@www.triadgoodwill.org
SUMMARY:Careers On The Outside: Open Registration
DESCRIPTION:In-Person Event: Careers On The Outside Open Registration\, every Monday from 10:00 a.m. – 11:00 a.m. at Triad Goodwill’s Career Center at 1235 S. Eugene St. in Greensboro. \nCareers On The Outside (formerly known as Jobs On The Outside) is a program designed specifically for individuals with justice involvement to assist with reentering the workforce. The program provides training opportunities that incorporate the individuals’ strengths\, while teaching soft and concrete workplace skills\, cognitive behavioral principals\, job search best practices\, placement assistance\, and supportive services that lead to successful competitive employment. \nInterested participants should register in-person at the Career Center to complete initial paperwork. Classes will be held at the Career Center Monday – Wednesday on designated class weeks. \nFor more information\, interested participants should contact coto@triadgoodwill.org or call (336) 544-5311
URL:https://www.triadgoodwill.org/event/careers-on-the-outside-open-registration/2024-01-15/
LOCATION:Greensboro Career Center\, 1235 S. Eugene Street\, Greensboro\, NC\, 27406\, United States
CATEGORIES:Train
ATTACH;FMTTYPE=image/png:https://www.triadgoodwill.org/wp-content/uploads/2023/02/8-2.png
ORGANIZER;CN="Triad Goodwill":MAILTO:marketing@triadgoodwill.org
END:VEVENT
BEGIN:VEVENT
DTSTART;TZID=America/New_York:20240118T100000
DTEND;TZID=America/New_York:20240118T120000
DTSTAMP:20260424T122228
CREATED:20231212T164015Z
LAST-MODIFIED:20231212T164343Z
UID:10002298-1705572000-1705579200@www.triadgoodwill.org
SUMMARY:Virtual Training: Excel Pivot Table Essentials
DESCRIPTION:Excel Pivot Table Essentials on Thursday January 18\, 10:00AM – 12:00PM via Zoom. \n**Special Note: This course is designed for individuals who have an intermediate understanding of the Excel platform and how to manipulate basic spreadsheets** \nGet ready to revolutionize your data analysis game with our invigorating 2-hour workshop\, Excel Pivot Table Essentials!. Dive into the core of Excel’s powerhouse tool – Pivot Tables. Whether you’re a novice or an experienced Excel user\, this workshop will take you on a journey from Pivot Table basics to advanced techniques\, making you a data maestro in no time. In this workshop\, you will learn: \n\nPivot Table Basics: lay a solid foundation by mastering the fundamentals of Pivot tables; learn to create\, modify\, and format Pivot Tables with confidence\nValue Field Settings: dive into the heart of data analysis; explore Value Field Settings to summarize and manipulate your data for deeper insights\nFiltering\, Group\, Selecting\, and Modifying Pivot Tables: navigate Pivot Tables like a pro; uncover the power of data filtration and how to focus the information that matters most to you; group data to streamline your presentation\nCalculated Fields and Items: delve into calculated fields and items to tailor your analysis to your specific needs\nOther Pivot Table Concepts: explore referencing Pivot Table cells\, incorporating sparklines\, creating Pivot Charts\, and refreshing data for real-time updates.\n\nDon’t miss this opportunity to become a Pivot Table virtuoso! Register today for Excel Pivot Table Essentials and transform your data into a strategic asset. Excel at data analysis – your ticket to making smarter\, informed decisions! \nClick to register: https://us06web.zoom.us/meeting/register/tZArd-GhrzMjGdRS4qTTne-MFiBdqC1jfCmv
URL:https://www.triadgoodwill.org/event/virtual-training-excel-pivot-table-essentials/
LOCATION:Zoom\, Email for Details\, NC\, United States
CATEGORIES:Train
ATTACH;FMTTYPE=image/png:https://www.triadgoodwill.org/wp-content/uploads/2023/12/Excel-Pivot-Table-Essentials.png
ORGANIZER;CN="Triad Goodwill":MAILTO:marketing@triadgoodwill.org
END:VEVENT
END:VCALENDAR