BEGIN:VCALENDAR
VERSION:2.0
PRODID:-//Triad Goodwill - ECPv6.15.20//NONSGML v1.0//EN
CALSCALE:GREGORIAN
METHOD:PUBLISH
X-WR-CALNAME:Triad Goodwill
X-ORIGINAL-URL:https://www.triadgoodwill.org
X-WR-CALDESC:Events for Triad Goodwill
REFRESH-INTERVAL;VALUE=DURATION:PT1H
X-Robots-Tag:noindex
X-PUBLISHED-TTL:PT1H
BEGIN:VTIMEZONE
TZID:America/New_York
BEGIN:DAYLIGHT
TZOFFSETFROM:-0500
TZOFFSETTO:-0400
TZNAME:EDT
DTSTART:20230312T070000
END:DAYLIGHT
BEGIN:STANDARD
TZOFFSETFROM:-0400
TZOFFSETTO:-0500
TZNAME:EST
DTSTART:20231105T060000
END:STANDARD
BEGIN:DAYLIGHT
TZOFFSETFROM:-0500
TZOFFSETTO:-0400
TZNAME:EDT
DTSTART:20240310T070000
END:DAYLIGHT
BEGIN:STANDARD
TZOFFSETFROM:-0400
TZOFFSETTO:-0500
TZNAME:EST
DTSTART:20241103T060000
END:STANDARD
BEGIN:DAYLIGHT
TZOFFSETFROM:-0500
TZOFFSETTO:-0400
TZNAME:EDT
DTSTART:20250309T070000
END:DAYLIGHT
BEGIN:STANDARD
TZOFFSETFROM:-0400
TZOFFSETTO:-0500
TZNAME:EST
DTSTART:20251102T060000
END:STANDARD
END:VTIMEZONE
BEGIN:VEVENT
DTSTART;TZID=America/New_York:20240205T100000
DTEND;TZID=America/New_York:20240205T110000
DTSTAMP:20260420T214222
CREATED:20230215T193708Z
LAST-MODIFIED:20240301T142132Z
UID:10001750-1707127200-1707130800@www.triadgoodwill.org
SUMMARY:Careers On The Outside: Open Registration
DESCRIPTION:In-Person Event: Careers On The Outside Open Registration\, every Monday from 10:00 a.m. – 11:00 a.m. at Triad Goodwill’s Career Center at 1235 S. Eugene St. in Greensboro. \nCareers On The Outside (formerly known as Jobs On The Outside) is a program designed specifically for individuals with justice involvement to assist with reentering the workforce. The program provides training opportunities that incorporate the individuals’ strengths\, while teaching soft and concrete workplace skills\, cognitive behavioral principals\, job search best practices\, placement assistance\, and supportive services that lead to successful competitive employment. \nInterested participants should register in-person at the Career Center to complete initial paperwork. Classes will be held at the Career Center Monday – Wednesday on designated class weeks. \nFor more information\, interested participants should contact coto@triadgoodwill.org or call (336) 544-5311
URL:https://www.triadgoodwill.org/event/careers-on-the-outside-open-registration/2024-02-05/
LOCATION:Greensboro Career Center\, 1235 S. Eugene Street\, Greensboro\, NC\, 27406\, United States
CATEGORIES:Train
ATTACH;FMTTYPE=image/png:https://www.triadgoodwill.org/wp-content/uploads/2023/02/8-2.png
ORGANIZER;CN="Triad Goodwill":MAILTO:marketing@triadgoodwill.org
END:VEVENT
BEGIN:VEVENT
DTSTART;TZID=America/New_York:20240205T130000
DTEND;TZID=America/New_York:20240205T150000
DTSTAMP:20260420T214222
CREATED:20231212T173423Z
LAST-MODIFIED:20231212T173423Z
UID:10001996-1707138000-1707145200@www.triadgoodwill.org
SUMMARY:Virtual Training: Complete Guide to Microsoft SharePoint
DESCRIPTION:Complete Guide to Microsoft SharePoint on Monday February 5\, 1:00PM – 3:00PM via Zoom. \nEmbark on a transformative journey into the world of collaboration and productivity with our energizing 2-hour workshop\, the Complete Guide to Microsoft SharePoint! Whether you’re a business professional\, team leader\, or IT enthusiast\, this workshop is your express ticket to unlocking the full potential of SharePoint. In today’s fast-paced work environment\, effective collaboration is key. SharePoint is your secret weapon for seamless teamwork\, document management\, and information sharing. In this workshop\, you will learn: \n\nIntroduction to SharePoint: understand the core features and how SharePoint fits into the modern workplace\nDocument Management: master the art of organizing\, sharing\, and collaborating on documents; learn to leverage SharePoint’s powerful document management capabilities for enhanced efficiency\nTeam Collaboration: explore how SharePoint facilitates real-time collaboration\, discussion\, and task management within your teams\nSite Customization: personalize your SharePoint experience; discover how to create and customize SharePoint sites to meet the specific needs of your projects and teams\nPermissions and Security: dive into the world of permissions and security settings\, ensuring that your data is accessible only to those who need it.\n\nDon’t miss this opportunity to become a SharePoint champion! Register today for the Complete Guide to Microsoft SharePoint workshop and revolutionize the way you collaborate and manage information. \nClick to register: https://us06web.zoom.us/meeting/register/tZArceqorTsqHN1VaSRL84UvgK9N2dAgw874
URL:https://www.triadgoodwill.org/event/virtual-training-complete-guide-to-microsoft-sharepoint/
LOCATION:Zoom\, Email for Details\, NC\, United States
CATEGORIES:Train
ATTACH;FMTTYPE=image/png:https://www.triadgoodwill.org/wp-content/uploads/2023/12/Complete-Guide-to-Microsoft-SharePoint.png
ORGANIZER;CN="Triad Goodwill":MAILTO:marketing@triadgoodwill.org
END:VEVENT
BEGIN:VEVENT
DTSTART;TZID=America/New_York:20240205T150000
DTEND;TZID=America/New_York:20240205T160000
DTSTAMP:20260420T214222
CREATED:20231212T171507Z
LAST-MODIFIED:20231212T171507Z
UID:10002300-1707145200-1707148800@www.triadgoodwill.org
SUMMARY:Virtual Training: How to Develop a Professional Resume
DESCRIPTION:How to Develop a Professional Resume on Monday February 5\, 3:00PM – 4:00PM via Zoom. \nThis training session teaches you how to prepare a professional resume that reflects your skills\, knowledge\, and experience that are relevant to the job you are seeking. Topics reviewed will include: \n\nDefining what a resume is and its purpose.\nLearning different resume formats and the advantages and disadvantages of each.\nStep-by-step creation of the most common sections found on resumes.\nLearning what information should be included and what mistakes to avoid.\nHow to prepare and develop a targeted resume.\nIdentifying the appropriate attire for an interview.\n\nClick to register: https://us06web.zoom.us/meeting/register/tZMlcemhrDktEt1FSCYwXJQo_2iVGtthEjeq
URL:https://www.triadgoodwill.org/event/virtual-training-how-to-develop-a-professional-resume-8/
LOCATION:Zoom\, Email for Details\, NC\, United States
CATEGORIES:Train
ATTACH;FMTTYPE=image/png:https://www.triadgoodwill.org/wp-content/uploads/2023/06/How-to-Develop-a-Professional-Resume.png
ORGANIZER;CN="Triad Goodwill":MAILTO:marketing@triadgoodwill.org
END:VEVENT
BEGIN:VEVENT
DTSTART;TZID=America/New_York:20240206T090000
DTEND;TZID=America/New_York:20240206T130000
DTSTAMP:20260420T214222
CREATED:20240125T141711Z
LAST-MODIFIED:20240125T141711Z
UID:10002311-1707210000-1707224400@www.triadgoodwill.org
SUMMARY:Veteran Services: Information Session with Veterans Bridge Home Care Coordinators
DESCRIPTION:At the Triad Goodwill Career Center at 1235 S. Eugene Street in Greensboro\, NC. \nThe greatest factors that impact a successful and healthy life after military service are employment\, housing\, access to VA benefits\, and social connections with other veterans. Veterans Bridge Home (VBH) is that bridge that connects Veterans with the resources needed to thrive. VBH visits the Triad Goodwill monthly to share resources and stories with veterans and their families. \nVBH Care Coordinators have helped attendees: \n\nchange discharge statuses\nobtain veteran-specific housing\nget jobs at veteran-preferred employers\nincrease tax credits\nand much more!\n\nIf any of these describe you\, we encourage you to speak with VBH Care Coordinators at their next info session: \n\nCombat or non-combat veteran\nHonorable or dishonorable discharge\nCurrently registered with the VA or not\nMarried veteran spouse or separated veteran spouse\nServed in the military at least one day\nAre a veteran with a criminal record\n\nFor questions\, please contact the Career Center at 336.544.5305 or careerservices@triadgoodwill.org.
URL:https://www.triadgoodwill.org/event/veteran-services-information-session-with-veterans-bridge-home-care-coordinators-5/
LOCATION:Greensboro Career Center\, 1235 S. Eugene Street\, Greensboro\, NC\, 27406\, United States
CATEGORIES:Community,Train
ATTACH;FMTTYPE=image/png:https://www.triadgoodwill.org/wp-content/uploads/2023/02/Veterans-Bridge-Home-Visit.png
ORGANIZER;CN="Triad Goodwill":MAILTO:marketing@triadgoodwill.org
END:VEVENT
BEGIN:VEVENT
DTSTART;TZID=America/New_York:20240207T150000
DTEND;TZID=America/New_York:20240207T160000
DTSTAMP:20260420T214222
CREATED:20231212T171617Z
LAST-MODIFIED:20231212T171617Z
UID:10002301-1707318000-1707321600@www.triadgoodwill.org
SUMMARY:Virtual Training: Interviewing Basics: How to Tell Your Story
DESCRIPTION:Interviewing Basics: How to Tell Your Story on Wednesday February 7\, 3:00PM – 4:00PM via Zoom. \nThis training session will help you prepare to articulate your skills\, knowledge\, and work experiences for your job interview. Learn how to address common interview questions and preparation strategies. Topics will include: \n\nHow to prepare for virtual interviews.\nHow to address difficult or uncomfortable questions\, such as gaps in work experiences.\nEmploy effective and successful follow-up strategies.\nKeys to re-branding yourself.\n\nClick to register: https://us06web.zoom.us/meeting/register/tZ0vce2trj8qH9ZKMeB4lhHvFAyJo6jDeyK9
URL:https://www.triadgoodwill.org/event/virtual-training-interviewing-basics-how-to-tell-your-story-8/
LOCATION:Zoom\, Email for Details\, NC\, United States
CATEGORIES:Train
ATTACH;FMTTYPE=image/png:https://www.triadgoodwill.org/wp-content/uploads/2023/06/Interviewing-Basics_-How-to-Tell-Your-Story-1.png
ORGANIZER;CN="Triad Goodwill":MAILTO:marketing@triadgoodwill.org
END:VEVENT
END:VCALENDAR