BEGIN:VCALENDAR
VERSION:2.0
PRODID:-//Triad Goodwill - ECPv6.15.20//NONSGML v1.0//EN
CALSCALE:GREGORIAN
METHOD:PUBLISH
X-WR-CALNAME:Triad Goodwill
X-ORIGINAL-URL:https://www.triadgoodwill.org
X-WR-CALDESC:Events for Triad Goodwill
REFRESH-INTERVAL;VALUE=DURATION:PT1H
X-Robots-Tag:noindex
X-PUBLISHED-TTL:PT1H
BEGIN:VTIMEZONE
TZID:America/New_York
BEGIN:DAYLIGHT
TZOFFSETFROM:-0500
TZOFFSETTO:-0400
TZNAME:EDT
DTSTART:20230312T070000
END:DAYLIGHT
BEGIN:STANDARD
TZOFFSETFROM:-0400
TZOFFSETTO:-0500
TZNAME:EST
DTSTART:20231105T060000
END:STANDARD
BEGIN:DAYLIGHT
TZOFFSETFROM:-0500
TZOFFSETTO:-0400
TZNAME:EDT
DTSTART:20240310T070000
END:DAYLIGHT
BEGIN:STANDARD
TZOFFSETFROM:-0400
TZOFFSETTO:-0500
TZNAME:EST
DTSTART:20241103T060000
END:STANDARD
BEGIN:DAYLIGHT
TZOFFSETFROM:-0500
TZOFFSETTO:-0400
TZNAME:EDT
DTSTART:20250309T070000
END:DAYLIGHT
BEGIN:STANDARD
TZOFFSETFROM:-0400
TZOFFSETTO:-0500
TZNAME:EST
DTSTART:20251102T060000
END:STANDARD
END:VTIMEZONE
BEGIN:VEVENT
DTSTART;TZID=America/New_York:20240219T100000
DTEND;TZID=America/New_York:20240219T110000
DTSTAMP:20260420T015722
CREATED:20230215T193708Z
LAST-MODIFIED:20240301T142132Z
UID:10001752-1708336800-1708340400@www.triadgoodwill.org
SUMMARY:Careers On The Outside: Open Registration
DESCRIPTION:In-Person Event: Careers On The Outside Open Registration\, every Monday from 10:00 a.m. – 11:00 a.m. at Triad Goodwill’s Career Center at 1235 S. Eugene St. in Greensboro. \nCareers On The Outside (formerly known as Jobs On The Outside) is a program designed specifically for individuals with justice involvement to assist with reentering the workforce. The program provides training opportunities that incorporate the individuals’ strengths\, while teaching soft and concrete workplace skills\, cognitive behavioral principals\, job search best practices\, placement assistance\, and supportive services that lead to successful competitive employment. \nInterested participants should register in-person at the Career Center to complete initial paperwork. Classes will be held at the Career Center Monday – Wednesday on designated class weeks. \nFor more information\, interested participants should contact coto@triadgoodwill.org or call (336) 544-5311
URL:https://www.triadgoodwill.org/event/careers-on-the-outside-open-registration/2024-02-19/
LOCATION:Greensboro Career Center\, 1235 S. Eugene Street\, Greensboro\, NC\, 27406\, United States
CATEGORIES:Train
ATTACH;FMTTYPE=image/png:https://www.triadgoodwill.org/wp-content/uploads/2023/02/8-2.png
ORGANIZER;CN="Triad Goodwill":MAILTO:marketing@triadgoodwill.org
END:VEVENT
BEGIN:VEVENT
DTSTART;TZID=America/New_York:20240219T100000
DTEND;TZID=America/New_York:20240219T120000
DTSTAMP:20260420T015722
CREATED:20231212T172253Z
LAST-MODIFIED:20231212T172253Z
UID:10001992-1708336800-1708344000@www.triadgoodwill.org
SUMMARY:Virtual Training: Complete Introduction to Power BI
DESCRIPTION:Complete Introduction to Power BI on Monday February 19\, 10:00AM – 12:00PM via Zoom. \nSupercharge your data analysis skills with our exhilarating 2-hour workshop\, Complete Introduction to Power BI. Whether you’re a data enthusiast\, analyst\, or business professional\, this workshop is your gateway to mastering Power BI – Microsoft’s powerhouse for transforming raw data into compelling insights. Data-driven decisions are the cornerstone of success\, and Power BI is the key to unlocking the full potential of your data. In this workshop\, you will learn: \n\nIntroduction and How to Sign-up for Power BI: learn how to sign-up for Power BI\, navigate the interface\, and set up your desktop for optimal efficiency\nThe Power BI Desktop: explore the robust features of Power BI Desktop\, the central hub for creating and designing your data reports\nCreating Reports in the Desktop: turn raw data into reports; although this will be an overview of report visualizations\, you can begin to master the art of creating reports to communicate insights effectively\nGraphs and Visualizations: elevate your reporting game with captivating graphs and visualizations\nInteractive Dashboards: bring your data to life with interactive dashboards\nDAX Formulas and Measures: unlock the power of data analysis expressions (DAX); learn to create formulas and measures to derive meaningful insights from your data\nTable Relationships: understand how to establish and manage relationships between tables for accurate and efficient analysis\nQuery Editor: refine your data with precision; dive into Query Editor to clean\, transform\, and shape your data for optimal reporting.\n\nDon’t miss this opportunity to become a Power BI pro! Register today for the Complete Introduction to Power BI workshop and empower yourself to transform data into actionable insights. Boost your career by learning one of the most sought-after data visualization tools! \nClick to register: https://us06web.zoom.us/meeting/register/tZMlc–qrz0uGNOSKvTgm4MsKhatc97npylU
URL:https://www.triadgoodwill.org/event/virtual-training-complete-introduction-to-power-bi-2/
LOCATION:Zoom\, Email for Details\, NC\, United States
CATEGORIES:Train
ATTACH;FMTTYPE=image/png:https://www.triadgoodwill.org/wp-content/uploads/2023/12/Complete-Introduction-to-Power-BI.png
ORGANIZER;CN="Triad Goodwill":MAILTO:marketing@triadgoodwill.org
END:VEVENT
BEGIN:VEVENT
DTSTART;TZID=America/New_York:20240219T150000
DTEND;TZID=America/New_York:20240219T160000
DTSTAMP:20260420T015722
CREATED:20231212T172111Z
LAST-MODIFIED:20231212T172111Z
UID:10001990-1708354800-1708358400@www.triadgoodwill.org
SUMMARY:Virtual Training: Skills for Career Advancement
DESCRIPTION:Skills for Career Advancement on Monday February 19\, 3:00PM – 4:00PM via Zoom. \nSoft Skills are durable skills and the most in-demand skills for employers today. On-the-job training can teach you how to do the job\, but navigating the workplace\, working harmoniously with your coworkers\, and dealing with a difficult supervisor are just a few areas where soft skills can be important. This course will cover topics such as: \n\nDefining and understanding soft skills.\nHow you can acquire soft skills.\nWhy are soft skills important\, and how can they be used for career advancement\, promotion opportunities\, and employment searching.\nThe top seven most in demand skills employers are looking for.\n\nClick to register: https://us06web.zoom.us/meeting/register/tZEsfuiuqzosE9X3hj42CPbsZqG6ogjd-xs0
URL:https://www.triadgoodwill.org/event/virtual-training-skills-for-career-advancement-6/
LOCATION:Zoom\, Email for Details\, NC\, United States
CATEGORIES:Train
ATTACH;FMTTYPE=image/png:https://www.triadgoodwill.org/wp-content/uploads/2023/09/Skills-for-Career-Advancement.png
ORGANIZER;CN="Triad Goodwill":MAILTO:marketing@triadgoodwill.org
END:VEVENT
BEGIN:VEVENT
DTSTART;TZID=America/New_York:20240220T100000
DTEND;TZID=America/New_York:20240220T160000
DTSTAMP:20260420T015722
CREATED:20240201T155228Z
LAST-MODIFIED:20240201T155228Z
UID:10002312-1708423200-1708444800@www.triadgoodwill.org
SUMMARY:Careers On The Outside: Visit to Keaton's Place
DESCRIPTION:At Keaton’s Place: 120 Worth Street\, Asheboro\, NC 27203 \nTuesday\, February 20th\, 10am-4pm \nCareers On The Outside is coming to Randolph County! \nCome talk to us about: \n\nCareer opportunities\nAny obstacles to employment\nYour work history and goals\n(We’ll have donuts!)\n\nDrop in to chat about registering for the next Careers On The Outside class\, which teaches the skills to get a job\, keep a job\, and advance in your career. Graduates of the Careers On The Outside program are connected with second-chance employers and receive case management services for at least 12 months.
URL:https://www.triadgoodwill.org/event/careers-on-the-outside-visit-to-keatons-place/
LOCATION:NC
CATEGORIES:Community
ATTACH;FMTTYPE=image/png:https://www.triadgoodwill.org/wp-content/uploads/2024/02/1706800767256-7c6d3a9f-adcd-4f96-b1d6-3f3531f2c40c_1.png
ORGANIZER;CN="Triad Goodwill":MAILTO:marketing@triadgoodwill.org
END:VEVENT
END:VCALENDAR