BEGIN:VCALENDAR
VERSION:2.0
PRODID:-//Triad Goodwill - ECPv6.15.20//NONSGML v1.0//EN
CALSCALE:GREGORIAN
METHOD:PUBLISH
X-WR-CALNAME:Triad Goodwill
X-ORIGINAL-URL:https://www.triadgoodwill.org
X-WR-CALDESC:Events for Triad Goodwill
REFRESH-INTERVAL;VALUE=DURATION:PT1H
X-Robots-Tag:noindex
X-PUBLISHED-TTL:PT1H
BEGIN:VTIMEZONE
TZID:America/New_York
BEGIN:DAYLIGHT
TZOFFSETFROM:-0500
TZOFFSETTO:-0400
TZNAME:EDT
DTSTART:20230312T070000
END:DAYLIGHT
BEGIN:STANDARD
TZOFFSETFROM:-0400
TZOFFSETTO:-0500
TZNAME:EST
DTSTART:20231105T060000
END:STANDARD
BEGIN:DAYLIGHT
TZOFFSETFROM:-0500
TZOFFSETTO:-0400
TZNAME:EDT
DTSTART:20240310T070000
END:DAYLIGHT
BEGIN:STANDARD
TZOFFSETFROM:-0400
TZOFFSETTO:-0500
TZNAME:EST
DTSTART:20241103T060000
END:STANDARD
BEGIN:DAYLIGHT
TZOFFSETFROM:-0500
TZOFFSETTO:-0400
TZNAME:EDT
DTSTART:20250309T070000
END:DAYLIGHT
BEGIN:STANDARD
TZOFFSETFROM:-0400
TZOFFSETTO:-0500
TZNAME:EST
DTSTART:20251102T060000
END:STANDARD
END:VTIMEZONE
BEGIN:VEVENT
DTSTART;TZID=America/New_York:20240304T150000
DTEND;TZID=America/New_York:20240304T160000
DTSTAMP:20260420T033322
CREATED:20231212T182430Z
LAST-MODIFIED:20231212T182430Z
UID:10002000-1709564400-1709568000@www.triadgoodwill.org
SUMMARY:Virtual Training: How to Develop a Professional Resume
DESCRIPTION:How to Develop a Professional Resume on Monday March 4\, 3:00PM – 4:00PM via Zoom. \nThis training session teaches you how to prepare a professional resume that reflects your skills\, knowledge\, and experience that are relevant to the job you are seeking. Topics reviewed will include: \n\nDefining what a resume is and its purpose.\nLearning different resume formats and the advantages and disadvantages of each.\nStep-by-step creation of the most common sections found on resumes.\nLearning what information should be included and what mistakes to avoid.\nHow to prepare and develop a targeted resume.\nIdentifying the appropriate attire for an interview.\n\nClick to register: https://us06web.zoom.us/meeting/register/tZUrdeyqpj8rG9TYQP69Ni6x5lta-dvLPAQ1
URL:https://www.triadgoodwill.org/event/virtual-training-how-to-develop-a-professional-resume-9/
LOCATION:Zoom\, Email for Details\, NC\, United States
CATEGORIES:Train
ATTACH;FMTTYPE=image/png:https://www.triadgoodwill.org/wp-content/uploads/2023/06/How-to-Develop-a-Professional-Resume.png
ORGANIZER;CN="Triad Goodwill":MAILTO:marketing@triadgoodwill.org
END:VEVENT
BEGIN:VEVENT
DTSTART;TZID=America/New_York:20240306T130000
DTEND;TZID=America/New_York:20240306T150000
DTSTAMP:20260420T033322
CREATED:20231212T183038Z
LAST-MODIFIED:20240220T162653Z
UID:10002304-1709730000-1709737200@www.triadgoodwill.org
SUMMARY:Virtual Training: Using ChatGPT for Development
DESCRIPTION:Using ChatGPT for Development on Wednesday March 6\, 1:00PM – 3:00PM via Zoom. \nEmbark on a journey of innovation and creativity in our 2-hour workshop\, Using ChatGPT for Development. Unleash the power of OpenAI’s cutting-edge language model to enhance your development skills and revolutionize how you approach design and problem-solving. Are you ready to take your development game to the next level? Whether you are blogging\, writing a book\, conducting a podcast\, creating videos\, designing online courses\, and more\, this course will help you bring your abilities up to new heights. In this workshop\, you will learn: \n\nIntroduction to ChatGPT and its capabilities\nThe basics of prompt engineering\nHow to use ChatGPT for blogging\, books\, illustrations\, podcasting\, video creation\, course creation\, social media\, and webinars.\n\nDon’t miss this opportunity to elevate your skills with the help of ChatGPT! Register today for Using ChatGPT for Development and revolutionize your delivery. \nClick to register: https://us06web.zoom.us/meeting/register/tZYsdO6pqjMiGNxjbK4TtsMNbvi_nis85IQc
URL:https://www.triadgoodwill.org/event/virtual-training-using-chatgpt-for-development-2/
LOCATION:Zoom\, Email for Details\, NC\, United States
CATEGORIES:Train
ATTACH;FMTTYPE=image/png:https://www.triadgoodwill.org/wp-content/uploads/2023/12/Using-ChatGPT-for-Development.png
ORGANIZER;CN="Triad Goodwill":MAILTO:marketing@triadgoodwill.org
END:VEVENT
BEGIN:VEVENT
DTSTART;TZID=America/New_York:20240306T150000
DTEND;TZID=America/New_York:20240306T160000
DTSTAMP:20260420T033322
CREATED:20231212T182542Z
LAST-MODIFIED:20231212T182542Z
UID:10002002-1709737200-1709740800@www.triadgoodwill.org
SUMMARY:Virtual Training: Cover Letter Fundamentals
DESCRIPTION:Cover Letter Fundamentals on Wednesday March 6\, 3:00PM – 4:00PM via Zoom. \nThe cover letter serves an important and often underappreciated role in the job searching process. A well written cover letter can be the difference in getting that interview. This session will explore the role this document plays in your job search and why it is so important. Topics include: \n\nUnderstanding basic structure of a cover letter.\nTips to get the most value out of the letter.\nBasics writing and grammar fundamentals.\nHow the letter can become a great first impression.\nAnd more.\n\nClick to register: https://us06web.zoom.us/meeting/register/tZEpd-6qqzooGtbhi_mqcvwaNV3CQguHXnXM
URL:https://www.triadgoodwill.org/event/virtual-training-cover-letter-fundamentals-6/
LOCATION:Zoom\, Email for Details\, NC\, United States
CATEGORIES:Train
ATTACH;FMTTYPE=image/png:https://www.triadgoodwill.org/wp-content/uploads/2023/06/Cover-Letter-Fundamentals.png
ORGANIZER;CN="Triad Goodwill":MAILTO:marketing@triadgoodwill.org
END:VEVENT
END:VCALENDAR