BEGIN:VCALENDAR
VERSION:2.0
PRODID:-//Triad Goodwill - ECPv6.15.20//NONSGML v1.0//EN
CALSCALE:GREGORIAN
METHOD:PUBLISH
X-WR-CALNAME:Triad Goodwill
X-ORIGINAL-URL:https://www.triadgoodwill.org
X-WR-CALDESC:Events for Triad Goodwill
REFRESH-INTERVAL;VALUE=DURATION:PT1H
X-Robots-Tag:noindex
X-PUBLISHED-TTL:PT1H
BEGIN:VTIMEZONE
TZID:America/New_York
BEGIN:DAYLIGHT
TZOFFSETFROM:-0500
TZOFFSETTO:-0400
TZNAME:EDT
DTSTART:20230312T070000
END:DAYLIGHT
BEGIN:STANDARD
TZOFFSETFROM:-0400
TZOFFSETTO:-0500
TZNAME:EST
DTSTART:20231105T060000
END:STANDARD
BEGIN:DAYLIGHT
TZOFFSETFROM:-0500
TZOFFSETTO:-0400
TZNAME:EDT
DTSTART:20240310T070000
END:DAYLIGHT
BEGIN:STANDARD
TZOFFSETFROM:-0400
TZOFFSETTO:-0500
TZNAME:EST
DTSTART:20241103T060000
END:STANDARD
BEGIN:DAYLIGHT
TZOFFSETFROM:-0500
TZOFFSETTO:-0400
TZNAME:EDT
DTSTART:20250309T070000
END:DAYLIGHT
BEGIN:STANDARD
TZOFFSETFROM:-0400
TZOFFSETTO:-0500
TZNAME:EST
DTSTART:20251102T060000
END:STANDARD
END:VTIMEZONE
BEGIN:VEVENT
DTSTART;TZID=America/New_York:20240311T100000
DTEND;TZID=America/New_York:20240311T200000
DTSTAMP:20260420T100353
CREATED:20240216T174142Z
LAST-MODIFIED:20240216T174342Z
UID:10002313-1710151200-1710187200@www.triadgoodwill.org
SUMMARY:Project Prom 2024 Starts Today!
DESCRIPTION:Prom season is here! And whether you’re looking for a long or short dress\, sequin or satin\, or even lace\, we’ve got you covered! \nJoin us starting Monday\, March 11th at five of our retail stores for Project Prom 2024: \n\nGreensboro – 4808 West Market Street\nHigh Point – 5301 Samet Drive\nAsheboro – 1064 East Dixie Drive\nMebane – 598 Deerfield Trace\nMayodan – 6625 NC Highway 135\n\nProject Prom
URL:https://www.triadgoodwill.org/event/project-prom-2024/
LOCATION:NC
CATEGORIES:Shop
ATTACH;FMTTYPE=image/jpeg:https://www.triadgoodwill.org/wp-content/uploads/2022/02/20240201_projprom_fbbanner_1640x924.jpg
ORGANIZER;CN="Triad Goodwill":MAILTO:marketing@triadgoodwill.org
END:VEVENT
BEGIN:VEVENT
DTSTART;TZID=America/New_York:20240311T150000
DTEND;TZID=America/New_York:20240311T160000
DTSTAMP:20260420T100353
CREATED:20231212T182705Z
LAST-MODIFIED:20231212T182705Z
UID:10002004-1710169200-1710172800@www.triadgoodwill.org
SUMMARY:Virtual Training: Interviewing Basics: How to Tell Your Story
DESCRIPTION:Interviewing Basics: How to Tell Your Story on Monday March 11\, 3:00PM – 4:00PM via Zoom. \nThis training session will help you prepare to articulate your skills\, knowledge\, and work experiences for your job interview. Learn how to address common interview questions and preparation strategies. Topics will include: \n\nHow to prepare for virtual interviews.\nHow to address difficult or uncomfortable questions\, such as gaps in work experiences.\nEmploy effective and successful follow-up strategies.\nKeys to re-branding yourself.\n\nClick to register: https://us06web.zoom.us/meeting/register/tZAvceCqrDkvE9PaHWzbN_PEapLeeR7xM73y
URL:https://www.triadgoodwill.org/event/virtual-training-interviewing-basics-how-to-tell-your-story-9/
LOCATION:Zoom\, Email for Details\, NC\, United States
CATEGORIES:Train
ATTACH;FMTTYPE=image/png:https://www.triadgoodwill.org/wp-content/uploads/2023/06/Interviewing-Basics_-How-to-Tell-Your-Story-1.png
ORGANIZER;CN="Triad Goodwill":MAILTO:marketing@triadgoodwill.org
END:VEVENT
BEGIN:VEVENT
DTSTART;TZID=America/New_York:20240313T150000
DTEND;TZID=America/New_York:20240313T160000
DTSTAMP:20260420T100353
CREATED:20231212T190041Z
LAST-MODIFIED:20231212T191526Z
UID:10002308-1710342000-1710345600@www.triadgoodwill.org
SUMMARY:Virtual Training: Developing A Growth Mindset
DESCRIPTION:Developing A Growth Mindset on Wednesday March 13\, 3:00PM – 4:00PM via Zoom. \nWinston Churchill was quoted as saying\, “Success is not final; failure is not fatal: It is the courage to continue that counts.” This gave meaning to the concept of having a growth mindset – seeing the opportunities instead of the barriers or obstacles. Possessing a growth mindset can be the difference between a successful and fulfilling career and life and a menial existence just to pay the bills. In this course\, we cover topics that include: \n\nDefining and understanding what it means to have a growth mindset\nWhat a growth mindset is and isn’t\nHow a growth mindset differs from a fixed mindset\nThe importance of having a growth mindset and the benefits it brings\nTips to developing a growth mindset and manifesting your own success.\n\nClick to register: https://us06web.zoom.us/meeting/register/tZMpfumqrjMoHt3PVuNFPD89yKku26v8wKfH
URL:https://www.triadgoodwill.org/event/virtual-training-developing-a-growth-mindset-4/
LOCATION:Zoom\, Email for Details\, NC\, United States
CATEGORIES:Train
ATTACH;FMTTYPE=image/png:https://www.triadgoodwill.org/wp-content/uploads/2023/12/Developing-a-Growth-Mindset.png
ORGANIZER;CN="Triad Goodwill":MAILTO:marketing@triadgoodwill.org
END:VEVENT
BEGIN:VEVENT
DTSTART;TZID=America/New_York:20240314T133000
DTEND;TZID=America/New_York:20240314T153000
DTSTAMP:20260420T100353
CREATED:20231212T183456Z
LAST-MODIFIED:20240220T163821Z
UID:10002305-1710423000-1710430200@www.triadgoodwill.org
SUMMARY:Virtual Training: Creating with Canva
DESCRIPTION:Creating with Canva on Thursday March 14\, 1:30PM – 3:30PM via Zoom. \nUnlock your creativity and transform your visual storytelling with Creating with Canva – a dynamic 2-hour workshop designed to empower you with the skills and confidence to bring your ideas to life through stunning visuals. In a world where visuals speak louder than words\, mastering graphic design is a game-changer. Canva\, the user-friendly design platform\, has revolutionized the way we create compelling graphics\, presentations\, and social media content. This workshop is your key to unleashing the full potential of Canva\, regardless of your design experience. In this workshop\, you will learn: \n\nCanva Basics: learn the interface\, tools\, and shortcuts to streamline your design process\nDesign Principles: understand color theory\, typography\, and layout to create visuals that captivate your audience\nBranding with Canva: explore techniques for maintaining consistency across designs using Canva branding features\nSocial Media Mastery: craft eye-catching social media posts and stories that stand out in crowded feeds. Learn optimal image sizes and design strategies for various platforms\nEffective Presentation Design: turn lackluster presentations into engaging experiences. Uncover the secrets of creating impactful slides and compelling visual aids.\n\nWho should attend: \n\nEntrepreneurs and small business owners looking to enhance their brand presence\nMarketing professionals seeking to create compelling visuals for campaigns\nEducators and trainers aiming to design captivating learning materials\nSocial media enthusiasts wanting to level up their content game\nAnyone interested in unlocking the power of visual communication.\n\nDon’t miss this opportunity to elevate your design skills and make your visuals speak volumes! Register today for Creating with Canva and transform your creative vision into reality. \nClick to register: https://us06web.zoom.us/meeting/register/tZ0tdu6hrjMuGNe4X0pCEQFpm8UNm2YDsft9
URL:https://www.triadgoodwill.org/event/virtual-training-creating-with-canva-4/
LOCATION:Zoom\, Email for Details\, NC\, United States
CATEGORIES:Train
ATTACH;FMTTYPE=image/png:https://www.triadgoodwill.org/wp-content/uploads/2023/09/Creating-with-Canva.png
ORGANIZER;CN="Triad Goodwill":MAILTO:marketing@triadgoodwill.org
END:VEVENT
END:VCALENDAR