BEGIN:VCALENDAR
VERSION:2.0
PRODID:-//Triad Goodwill - ECPv6.15.20//NONSGML v1.0//EN
CALSCALE:GREGORIAN
METHOD:PUBLISH
X-WR-CALNAME:Triad Goodwill
X-ORIGINAL-URL:https://www.triadgoodwill.org
X-WR-CALDESC:Events for Triad Goodwill
REFRESH-INTERVAL;VALUE=DURATION:PT1H
X-Robots-Tag:noindex
X-PUBLISHED-TTL:PT1H
BEGIN:VTIMEZONE
TZID:America/New_York
BEGIN:DAYLIGHT
TZOFFSETFROM:-0500
TZOFFSETTO:-0400
TZNAME:EDT
DTSTART:20230312T070000
END:DAYLIGHT
BEGIN:STANDARD
TZOFFSETFROM:-0400
TZOFFSETTO:-0500
TZNAME:EST
DTSTART:20231105T060000
END:STANDARD
BEGIN:DAYLIGHT
TZOFFSETFROM:-0500
TZOFFSETTO:-0400
TZNAME:EDT
DTSTART:20240310T070000
END:DAYLIGHT
BEGIN:STANDARD
TZOFFSETFROM:-0400
TZOFFSETTO:-0500
TZNAME:EST
DTSTART:20241103T060000
END:STANDARD
BEGIN:DAYLIGHT
TZOFFSETFROM:-0500
TZOFFSETTO:-0400
TZNAME:EDT
DTSTART:20250309T070000
END:DAYLIGHT
BEGIN:STANDARD
TZOFFSETFROM:-0400
TZOFFSETTO:-0500
TZNAME:EST
DTSTART:20251102T060000
END:STANDARD
END:VTIMEZONE
BEGIN:VEVENT
DTSTART;TZID=America/New_York:20240325T150000
DTEND;TZID=America/New_York:20240325T160000
DTSTAMP:20260420T033310
CREATED:20231212T182925Z
LAST-MODIFIED:20231212T182925Z
UID:10002008-1711378800-1711382400@www.triadgoodwill.org
SUMMARY:Virtual Training: Skills for Career Advancement
DESCRIPTION:Skills for Career Advancement on Monday March 25\, 3:00PM – 4:00PM via Zoom. \nSoft Skills are durable skills and the most in-demand skills for employers today. On-the-job training can teach you how to do the job\, but navigating the workplace\, working harmoniously with your coworkers\, and dealing with a difficult supervisor are just a few areas where soft skills can be important. This course will cover topics such as: \n\nDefining and understanding soft skills.\nHow you can acquire soft skills.\nWhy are soft skills important\, and how can they be used for career advancement\, promotion opportunities\, and employment searching.\nThe top seven most in demand skills employers are looking for.\n\nClick to register: https://us06web.zoom.us/meeting/register/tZUrdeitpzguGNKQ28tgDYjF6JVFw-xUNl1e
URL:https://www.triadgoodwill.org/event/virtual-training-skills-for-career-advancement-7/
LOCATION:Zoom\, Email for Details\, NC\, United States
CATEGORIES:Train
ATTACH;FMTTYPE=image/png:https://www.triadgoodwill.org/wp-content/uploads/2023/09/Skills-for-Career-Advancement.png
ORGANIZER;CN="Triad Goodwill":MAILTO:marketing@triadgoodwill.org
END:VEVENT
BEGIN:VEVENT
DTSTART;TZID=America/New_York:20240327T150000
DTEND;TZID=America/New_York:20240327T160000
DTSTAMP:20260420T033310
CREATED:20231212T185839Z
LAST-MODIFIED:20231212T185839Z
UID:10002307-1711551600-1711555200@www.triadgoodwill.org
SUMMARY:Virtual Training: Online Safety: Protecting Your Digital Footprint
DESCRIPTION:Online Safety: Protecting Your Digital Footprint on Wednesday March 27\, 3:00PM – 4:00PM via Zoom. \nThe internet is how most of us communicate\, find out the latest news\, and shop. It is also potentially dangerous with many bad actors trying to obtain your information and take advantage of you. This training session will teach you how to safely navigate the internet and protect your personal information. Topics will include: \n\nHow to build your awareness for internet safety and possible dangers.\nIdentify how to properly share information safely.\nUnderstand the steps to take to protect yourself online.\n\nClick to register: https://us06web.zoom.us/meeting/register/tZMlf-usqD4oE9GM4dQv4v7UAZP5ZrBynHJb
URL:https://www.triadgoodwill.org/event/virtual-training-online-safety-protecting-your-digital-footprint-6/
LOCATION:Zoom\, Email for Details\, NC\, United States
CATEGORIES:Train
ATTACH;FMTTYPE=image/png:https://www.triadgoodwill.org/wp-content/uploads/2023/06/Online-Safety_-Protecting-Your-Digital-Footprint.png
ORGANIZER;CN="Triad Goodwill":MAILTO:marketing@triadgoodwill.org
END:VEVENT
END:VCALENDAR