BEGIN:VCALENDAR
VERSION:2.0
PRODID:-//Triad Goodwill - ECPv6.15.20//NONSGML v1.0//EN
CALSCALE:GREGORIAN
METHOD:PUBLISH
X-ORIGINAL-URL:https://www.triadgoodwill.org
X-WR-CALDESC:Events for Triad Goodwill
REFRESH-INTERVAL;VALUE=DURATION:PT1H
X-Robots-Tag:noindex
X-PUBLISHED-TTL:PT1H
BEGIN:VTIMEZONE
TZID:America/New_York
BEGIN:DAYLIGHT
TZOFFSETFROM:-0500
TZOFFSETTO:-0400
TZNAME:EDT
DTSTART:20210314T070000
END:DAYLIGHT
BEGIN:STANDARD
TZOFFSETFROM:-0400
TZOFFSETTO:-0500
TZNAME:EST
DTSTART:20211107T060000
END:STANDARD
BEGIN:DAYLIGHT
TZOFFSETFROM:-0500
TZOFFSETTO:-0400
TZNAME:EDT
DTSTART:20220313T070000
END:DAYLIGHT
BEGIN:STANDARD
TZOFFSETFROM:-0400
TZOFFSETTO:-0500
TZNAME:EST
DTSTART:20221106T060000
END:STANDARD
BEGIN:DAYLIGHT
TZOFFSETFROM:-0500
TZOFFSETTO:-0400
TZNAME:EDT
DTSTART:20230312T070000
END:DAYLIGHT
BEGIN:STANDARD
TZOFFSETFROM:-0400
TZOFFSETTO:-0500
TZNAME:EST
DTSTART:20231105T060000
END:STANDARD
BEGIN:DAYLIGHT
TZOFFSETFROM:-0500
TZOFFSETTO:-0400
TZNAME:EDT
DTSTART:20240310T070000
END:DAYLIGHT
BEGIN:STANDARD
TZOFFSETFROM:-0400
TZOFFSETTO:-0500
TZNAME:EST
DTSTART:20241103T060000
END:STANDARD
BEGIN:DAYLIGHT
TZOFFSETFROM:-0500
TZOFFSETTO:-0400
TZNAME:EDT
DTSTART:20250309T070000
END:DAYLIGHT
BEGIN:STANDARD
TZOFFSETFROM:-0400
TZOFFSETTO:-0500
TZNAME:EST
DTSTART:20251102T060000
END:STANDARD
BEGIN:DAYLIGHT
TZOFFSETFROM:-0500
TZOFFSETTO:-0400
TZNAME:EDT
DTSTART:20260308T070000
END:DAYLIGHT
BEGIN:STANDARD
TZOFFSETFROM:-0400
TZOFFSETTO:-0500
TZNAME:EST
DTSTART:20261101T060000
END:STANDARD
BEGIN:DAYLIGHT
TZOFFSETFROM:-0500
TZOFFSETTO:-0400
TZNAME:EDT
DTSTART:20270314T070000
END:DAYLIGHT
BEGIN:STANDARD
TZOFFSETFROM:-0400
TZOFFSETTO:-0500
TZNAME:EST
DTSTART:20271107T060000
END:STANDARD
END:VTIMEZONE
BEGIN:VEVENT
DTSTART;TZID=America/New_York:20260318T100000
DTEND;TZID=America/New_York:20260318T150000
DTSTAMP:20260425T195019
CREATED:20260218T200242Z
LAST-MODIFIED:20260218T200242Z
UID:10002276-1773828000-1773846000@www.triadgoodwill.org
SUMMARY:Goodwill on the Go: Reidsville
DESCRIPTION:Walk-ins welcome! Find us onsite at the Triad Goodwill Store & Donation Center at 1551 Freeway Drive\, Reidsville\, NC 27320. \nThe Goodwill on the Go mobile unit provides public access to digital services across our five-county footprint of Alamance\, Caswell\, Guilford\, Randolph\, and Rockingham county. These services are available to everyone\, including our employees. Come visit us for one-on-one support for: \n\nEmployment services\nCareer navigation support\nDigital literacy training\nResume & interview assistance\nReliable internet access\nPrinting & scanning services
URL:https://www.triadgoodwill.org/event/goodwill-on-the-go-reidsville-7/
LOCATION:Goodwill #021\, 1551 Freeway Dr.\, Reidsville\, NC\, 27320\, United States
CATEGORIES:Goodwill on the Go
ATTACH;FMTTYPE=image/png:https://www.triadgoodwill.org/wp-content/uploads/2025/04/reidsville-goodwill-on-the-go.png
ORGANIZER;CN="Triad Goodwill":MAILTO:marketing@triadgoodwill.org
END:VEVENT
BEGIN:VEVENT
DTSTART;TZID=America/New_York:20260218T100000
DTEND;TZID=America/New_York:20260218T150000
DTSTAMP:20260425T195019
CREATED:20260123T144218Z
LAST-MODIFIED:20260123T144218Z
UID:10002579-1771408800-1771426800@www.triadgoodwill.org
SUMMARY:Goodwill on the Go: Reidsville
DESCRIPTION:Walk-ins welcome! Find us onsite at the Triad Goodwill Store & Donation Center at 1551 Freeway Drive\, Reidsville\, NC 27320. \nThe Goodwill on the Go mobile unit provides public access to digital services across our five-county footprint of Alamance\, Caswell\, Guilford\, Randolph\, and Rockingham county. These services are available to everyone\, including our employees. Come visit us for one-on-one support for: \n\nEmployment services\nCareer navigation support\nDigital literacy training\nResume & interview assistance\nReliable internet access\nPrinting & scanning services
URL:https://www.triadgoodwill.org/event/goodwill-on-the-go-reidsville-6/
LOCATION:Goodwill #021\, 1551 Freeway Dr.\, Reidsville\, NC\, 27320\, United States
CATEGORIES:Goodwill on the Go
ATTACH;FMTTYPE=image/png:https://www.triadgoodwill.org/wp-content/uploads/2025/04/reidsville-goodwill-on-the-go.png
ORGANIZER;CN="Triad Goodwill":MAILTO:marketing@triadgoodwill.org
END:VEVENT
BEGIN:VEVENT
DTSTART;TZID=America/New_York:20260122T100000
DTEND;TZID=America/New_York:20260122T150000
DTSTAMP:20260425T195019
CREATED:20251209T164959Z
LAST-MODIFIED:20251209T164959Z
UID:10002541-1769076000-1769094000@www.triadgoodwill.org
SUMMARY:Goodwill on the Go: Reidsville
DESCRIPTION:Walk-ins welcome! Find us onsite at the Triad Goodwill Store & Donation Center at 1551 Freeway Drive\, Reidsville\, NC 27320. \nThe Goodwill on the Go mobile unit provides public access to digital services across our five-county footprint of Alamance\, Caswell\, Guilford\, Randolph\, and Rockingham county. These services are available to everyone\, including our employees. Come visit us for one-on-one support for: \n\nEmployment services\nCareer navigation support\nDigital literacy training\nResume & interview assistance\nReliable internet access\nPrinting & scanning services
URL:https://www.triadgoodwill.org/event/goodwill-on-the-go-reidsville-5/
LOCATION:Goodwill #021\, 1551 Freeway Dr.\, Reidsville\, NC\, 27320\, United States
CATEGORIES:Goodwill on the Go
ATTACH;FMTTYPE=image/png:https://www.triadgoodwill.org/wp-content/uploads/2025/04/reidsville-goodwill-on-the-go.png
ORGANIZER;CN="Triad Goodwill":MAILTO:marketing@triadgoodwill.org
END:VEVENT
BEGIN:VEVENT
DTSTART;TZID=America/New_York:20251216T100000
DTEND;TZID=America/New_York:20251216T150000
DTSTAMP:20260425T195019
CREATED:20251117T174504Z
LAST-MODIFIED:20251117T174504Z
UID:10002217-1765879200-1765897200@www.triadgoodwill.org
SUMMARY:Goodwill on the Go: Reidsville
DESCRIPTION:Walk-ins welcome! Find us onsite at the Triad Goodwill Store & Donation Center at 1551 Freeway Drive\, Reidsville\, NC 27320. \nThe Goodwill on the Go mobile unit provides public access to digital services across our five-county footprint of Alamance\, Caswell\, Guilford\, Randolph\, and Rockingham county. These services are available to everyone\, including our employees. Come visit us for one-on-one support for: \n\nEmployment services\nCareer navigation support\nDigital literacy training\nResume & interview assistance\nReliable internet access\nPrinting & scanning services
URL:https://www.triadgoodwill.org/event/goodwill-on-the-go-reidsville-4/
LOCATION:Goodwill #021\, 1551 Freeway Dr.\, Reidsville\, NC\, 27320\, United States
CATEGORIES:Goodwill on the Go
ATTACH;FMTTYPE=image/png:https://www.triadgoodwill.org/wp-content/uploads/2025/04/reidsville-goodwill-on-the-go.png
ORGANIZER;CN="Triad Goodwill":MAILTO:marketing@triadgoodwill.org
END:VEVENT
BEGIN:VEVENT
DTSTART;TZID=America/New_York:20251118T100000
DTEND;TZID=America/New_York:20251118T150000
DTSTAMP:20260425T195019
CREATED:20251024T191613Z
LAST-MODIFIED:20251024T191613Z
UID:10002532-1763460000-1763478000@www.triadgoodwill.org
SUMMARY:Goodwill on the Go: Reidsville
DESCRIPTION:Find us onsite at the Triad Goodwill Store & Donation Center at 1551 Freeway Drive\, Reidsville\, NC 27320. \nThe Goodwill on the Go mobile unit provides public access to digital services across our five-county footprint of Alamance\, Caswell\, Guilford\, Randolph\, and Rockingham county. These services are available to everyone\, including our employees. Come visit us for one-on-one support for: \n\nEmployment services\nCareer navigation support\nDigital literacy training\nResume & interview assistance\nReliable internet access\nPrinting & scanning services!\n\nWalk-ins welcome!
URL:https://www.triadgoodwill.org/event/goodwill-on-the-go-reidsville-3/
LOCATION:Goodwill #021\, 1551 Freeway Dr.\, Reidsville\, NC\, 27320\, United States
CATEGORIES:Goodwill on the Go
ATTACH;FMTTYPE=image/png:https://www.triadgoodwill.org/wp-content/uploads/2025/04/reidsville-goodwill-on-the-go.png
ORGANIZER;CN="Triad Goodwill":MAILTO:marketing@triadgoodwill.org
END:VEVENT
BEGIN:VEVENT
DTSTART;TZID=America/New_York:20251015T100000
DTEND;TZID=America/New_York:20251015T150000
DTSTAMP:20260425T195019
CREATED:20250929T172316Z
LAST-MODIFIED:20250929T172316Z
UID:10002521-1760522400-1760540400@www.triadgoodwill.org
SUMMARY:Goodwill on the Go: Reidsville
DESCRIPTION:Find us onsite at the Triad Goodwill Store & Donation Center at 1551 Freeway Drive\, Reidsville\, NC 27320. \nThe Goodwill on the Go mobile unit provides public access to digital services across our five-county footprint of Alamance\, Caswell\, Guilford\, Randolph\, and Rockingham county. These services are available to everyone\, including our employees. Come visit us for one-on-one support for: \n\nEmployment services\nCareer navigation support\nDigital literacy training\nResume & interview assistance\nReliable internet access\nPrinting & scanning services!\n\nWalk-ins welcome!
URL:https://www.triadgoodwill.org/event/goodwill-on-the-go-reidsville-2/
LOCATION:Goodwill #021\, 1551 Freeway Dr.\, Reidsville\, NC\, 27320\, United States
CATEGORIES:Goodwill on the Go
ATTACH;FMTTYPE=image/png:https://www.triadgoodwill.org/wp-content/uploads/2025/04/reidsville-goodwill-on-the-go.png
ORGANIZER;CN="Triad Goodwill":MAILTO:marketing@triadgoodwill.org
END:VEVENT
BEGIN:VEVENT
DTSTART;TZID=America/New_York:20250915T100000
DTEND;TZID=America/New_York:20250915T150000
DTSTAMP:20260425T195019
CREATED:20250910T134009Z
LAST-MODIFIED:20250910T134009Z
UID:10002510-1757930400-1757948400@www.triadgoodwill.org
SUMMARY:Goodwill on the Go - Reidsville
DESCRIPTION:Find us onsite at the Triad Goodwill Store & Donation Center at 1551 Freeway Drive\, Reidsville\, NC 27320. \nThe Goodwill on the Go mobile unit provides public access to digital services across our five-county footprint of Alamance\, Caswell\, Guilford\, Randolph\, and Rockingham county. These services are available to everyone\, including our employees. Come visit us for one-on-one support for: \n\nEmployment services\nCareer navigation support\nDigital literacy training\nResume & interview assistance\nReliable internet access\nPrinting & scanning services!\n\nWalk-ins welcome!
URL:https://www.triadgoodwill.org/event/goodwill-on-the-go-reidsville/
LOCATION:Goodwill #021\, 1551 Freeway Dr.\, Reidsville\, NC\, 27320\, United States
CATEGORIES:Goodwill on the Go
ATTACH;FMTTYPE=image/png:https://www.triadgoodwill.org/wp-content/uploads/2025/04/reidsville-goodwill-on-the-go.png
ORGANIZER;CN="Triad Goodwill":MAILTO:marketing@triadgoodwill.org
END:VEVENT
BEGIN:VEVENT
DTSTART;TZID=America/New_York:20250821T100000
DTEND;TZID=America/New_York:20250821T150000
DTSTAMP:20260425T195019
CREATED:20250724T133902Z
LAST-MODIFIED:20250724T134455Z
UID:10002476-1755770400-1755788400@www.triadgoodwill.org
SUMMARY:Goodwill on the Go - Reidsville
DESCRIPTION:Find us onsite at the Triad Goodwill Store & Donation Center at 1551 Freeway Drive\, Reidsville\, NC 27320. \nThe Goodwill on the Go mobile unit provides public access to digital services across our five-county footprint of Alamance\, Caswell\, Guilford\, Randolph\, and Rockingham county. These services are available to everyone\, including our employees. Come visit us for one-on-one support for: \n\nEmployment services\nCareer navigation support\nDigital literacy training\nResume & interview assistance\nReliable internet access\nPrinting & scanning services!\n\nWalk-ins welcome!
URL:https://www.triadgoodwill.org/event/goodwill-on-the-go-mobile-unit-reidsville-3/
LOCATION:Goodwill #021\, 1551 Freeway Dr.\, Reidsville\, NC\, 27320\, United States
CATEGORIES:Goodwill on the Go
ATTACH;FMTTYPE=image/png:https://www.triadgoodwill.org/wp-content/uploads/2025/04/reidsville-goodwill-on-the-go.png
ORGANIZER;CN="Triad Goodwill":MAILTO:marketing@triadgoodwill.org
END:VEVENT
BEGIN:VEVENT
DTSTART;TZID=America/New_York:20250508T100000
DTEND;TZID=America/New_York:20250508T150000
DTSTAMP:20260425T195019
CREATED:20250429T133730Z
LAST-MODIFIED:20250429T133730Z
UID:10002115-1746698400-1746716400@www.triadgoodwill.org
SUMMARY:Goodwill on the Go Mobile Unit - Reidsville
DESCRIPTION:Find us onsite at the Triad Goodwill Store & Donation Center at 1551 Freeway Drive\, Reidsville\, NC 27320. \nThe Goodwill on the Go mobile unit provides public access to digital services across our five-county footprint of Alamance\, Caswell\, Guilford\, Randolph\, and Rockingham county. These services are available to everyone\, including our employees. Come visit us for one-on-one support for: \n\nEmployment services\nCareer navigation support\nDigital literacy training\nResume & interview assistance\nReliable internet access\nPrinting & scanning services!\n\nWalk-ins welcome!
URL:https://www.triadgoodwill.org/event/goodwill-on-the-go-mobile-unit-reidsville-2/
LOCATION:Goodwill #021\, 1551 Freeway Dr.\, Reidsville\, NC\, 27320\, United States
CATEGORIES:Goodwill on the Go
ATTACH;FMTTYPE=image/png:https://www.triadgoodwill.org/wp-content/uploads/2025/04/reidsville-goodwill-on-the-go.png
ORGANIZER;CN="Triad Goodwill":MAILTO:marketing@triadgoodwill.org
END:VEVENT
BEGIN:VEVENT
DTSTART;TZID=America/New_York:20250327T100000
DTEND;TZID=America/New_York:20250327T140000
DTSTAMP:20260425T195019
CREATED:20250303T202238Z
LAST-MODIFIED:20250303T202238Z
UID:10002409-1743069600-1743084000@www.triadgoodwill.org
SUMMARY:Goodwill on the Go Mobile Unit - Reidsville
DESCRIPTION:Find us onsite at the Triad Goodwill Store & Donation Center at 1551 Freeway Drive\, Reidsville\, NC 27320. \nThe Goodwill on the Go mobile unit provides public access to digital services across our five-county footprint of Alamance\, Caswell\, Guilford\, Randolph\, and Rockingham county. These services are available to everyone\, including our employees. Come visit us for one-on-one support for: \n\nEmployment services\nCareer navigation support\nDigital literacy training\nResume & interview assistance\nReliable internet access\nPrinting & scanning services!\n\nWalk-ins welcome!
URL:https://www.triadgoodwill.org/event/goodwill-on-the-go-mobile-unit-reidsville/
LOCATION:Goodwill #021\, 1551 Freeway Dr.\, Reidsville\, NC\, 27320\, United States
CATEGORIES:Goodwill on the Go
ATTACH;FMTTYPE=image/png:https://www.triadgoodwill.org/wp-content/uploads/2025/02/Goodwill-on-the-Go-Mobile-Unit-Event-3.png
ORGANIZER;CN="Triad Goodwill":MAILTO:marketing@triadgoodwill.org
END:VEVENT
BEGIN:VEVENT
DTSTART;TZID=America/New_York:20220915T100000
DTEND;TZID=America/New_York:20220915T200000
DTSTAMP:20260425T195019
CREATED:20220823T150156Z
LAST-MODIFIED:20220823T150156Z
UID:10002089-1663236000-1663272000@www.triadgoodwill.org
SUMMARY:Thriftanista Tour 2.0 - Freeway Dr.\, Reidsville
DESCRIPTION:Calling all Thriftanistas!—  Our Thriftanista Tour is BACK for a second round of fun! Join us for our 2022-2023 Thriftanista Tour 2.0! We’ll pack our stores with name-brand\, #designer brand\, vintage\, and exclusive items including clothing\, shoes\, accessories\, and more all at Triad #Goodwill’s low prices!\n\nFirst stop is our Freeway Dr. location in Reidsville on September 15th!
URL:https://www.triadgoodwill.org/event/thriftanista-tour-2-0-freeway-dr-reidsville/
LOCATION:Goodwill #021\, 1551 Freeway Dr.\, Reidsville\, NC\, 27320\, United States
CATEGORIES:Shop
ATTACH;FMTTYPE=image/png:https://www.triadgoodwill.org/wp-content/uploads/2022/08/1.png
ORGANIZER;CN="Triad Goodwill":MAILTO:marketing@triadgoodwill.org
END:VEVENT
END:VCALENDAR